BEGIN:VCALENDAR
VERSION:2.0
PRODID:-//ChamberMaster//Event Calendar 2.0//EN
METHOD:PUBLISH
X-PUBLISHED-TTL:P3D
REFRESH-INTERVAL:P3D
CALSCALE:GREGORIAN
BEGIN:VEVENT
DTSTART:20120926T230000Z
DTEND:20120927T000000Z
X-MICROSOFT-CDO-ALLDAYEVENT:FALSE
SUMMARY:Disney Night
DESCRIPTION:Have questions about a Disney vacation?  Join us for a fun filled night!  Booking incentives will be available!  Please call or email to reserve your spot!
X-ALT-DESC;FMTTYPE=text/html:Have questions about a Disney vacation?&nbsp\; Join us for a fun filled night!&nbsp\;&nbsp\;Booking incentives will be available!&nbsp\; Please call or email to reserve your spot!
LOCATION:Lake Country Travel 101 W Wisconsin Ave Pewaukee\, WI
UID:e.522.132011
SEQUENCE:3
DTSTAMP:20260421T093350Z
URL:https://business.hartland-wi.org/events/details/disney-night-09-26-2012-132011
END:VEVENT

END:VCALENDAR
