BEGIN:VCALENDAR
VERSION:2.0
PRODID:-//ChamberMaster//Event Calendar 2.0//EN
METHOD:PUBLISH
X-PUBLISHED-TTL:P3D
REFRESH-INTERVAL:P3D
CALSCALE:GREGORIAN
BEGIN:VEVENT
DTSTART:20121202T180000Z
DTEND:20121202T183000Z
X-MICROSOFT-CDO-ALLDAYEVENT:FALSE
SUMMARY:Dinner at Sr Thomas
DESCRIPTION:The Chapter will pay $4.00 toward each person's meal.\n\nJoin us for Lunch and a Community Day Event!
X-ALT-DESC;FMTTYPE=text/html:The Chapter will pay $4.00 toward each person&#39\;s meal.<br />\nJoin us for Lunch and a Community Day Event!<br />\n
LOCATION:Sr. Thomas\, 150 North Avenue\, Hartland\, Wisconsin
UID:e.522.132042
SEQUENCE:3
DTSTAMP:20260421T041316Z
URL:https://business.hartland-wi.org/events/details/dinner-at-sr-thomas-12-02-2012-132042
END:VEVENT

END:VCALENDAR
