BEGIN:VCALENDAR
VERSION:2.0
PRODID:-//ChamberMaster//Event Calendar 2.0//EN
METHOD:PUBLISH
X-PUBLISHED-TTL:P3D
REFRESH-INTERVAL:P3D
CALSCALE:GREGORIAN
BEGIN:VEVENT
DTSTART:20141212T000000Z
DTEND:20141212T030000Z
X-MICROSOFT-CDO-ALLDAYEVENT:FALSE
SUMMARY:Dine with Wine - "Holiday Glow"
DESCRIPTION:Holiday Glow Among the Dolomite Mountains\n\nDelicious cuisine and wine from Northeast Italy. \n\nSpecial Appearance by the Arrowhead Broadway Company Carolers!\n\nGuest Speaker Mr. Stephen David to explain each Wine.\n\n\n\nThis event is a perfect opportunity to entertain a large group or reserve a romantic table for two.\n\nPlease call for Reservations - 262-367-3903
X-ALT-DESC;FMTTYPE=text/html:<span style="font-size: 16px\;"><em><strong><span style="color: rgb(255\, 0\, 0)\;"><span style="font-family: times new roman\;">Holiday Glow Among the Dolomite Mountains</span></span><br />\n<span style="font-family: times new roman\;"><span style="color: rgb(0\, 100\, 0)\;">Delicious cuisine and wine from Northeast Italy.&nbsp\;<br />\nSpecial Appearance by the&nbsp\;Arrowhead Broadway Company Carolers!<br />\nGuest Speaker Mr. Stephen David to explain each Wine.<br />\n<br />\nThis event is a perfect opportunity to entertain a large group&nbsp\;or reserve a&nbsp\;romantic table for two.</span><br />\n<span style="color: rgb(255\, 0\, 0)\;">Please call for Reservations - 262-367-3903&nbsp\;</span></span></strong></em></span>
LOCATION:1807 Nagawicka Rd. Hartland WI 53029
UID:e.522.133083
SEQUENCE:3
DTSTAMP:20260421T024018Z
URL:https://business.hartland-wi.org/events/details/dine-with-wine-holiday-glow-12-11-2014-133083
END:VEVENT

END:VCALENDAR
