BEGIN:VCALENDAR
VERSION:2.0
PRODID:-//ChamberMaster//Event Calendar 2.0//EN
METHOD:PUBLISH
X-PUBLISHED-TTL:P3D
REFRESH-INTERVAL:P3D
CALSCALE:GREGORIAN
BEGIN:VEVENT
DTSTART;VALUE=DATE:20110201
DTEND;VALUE=DATE:20110301
TRANSP:TRANSPARENT
X-MICROSOFT-CDO-ALLDAYEVENT:TRUE
SUMMARY:Curves Circuit With Zumba Fitness!
DESCRIPTION:Try It FREE! Curves Circuit With Zumba Fitness!
X-ALT-DESC;FMTTYPE=text/html:Try It FREE! Curves Circuit With Zumba Fitness!
LOCATION:Curves - Hartbrook Mall - Hartland
UID:e.522.131417
SEQUENCE:3
DTSTAMP:20260422T222540Z
URL:https://business.hartland-wi.org/events/details/curves-circuit-with-zumba-fitness-02-01-2011-131417
END:VEVENT

END:VCALENDAR
