BEGIN:VCALENDAR
VERSION:2.0
PRODID:-//ChamberMaster//Event Calendar 2.0//EN
METHOD:PUBLISH
X-PUBLISHED-TTL:P3D
REFRESH-INTERVAL:P3D
CALSCALE:GREGORIAN
BEGIN:VEVENT
DTSTART;VALUE=DATE:20110401
DTEND;VALUE=DATE:20110501
TRANSP:TRANSPARENT
X-MICROSOFT-CDO-ALLDAYEVENT:TRUE
SUMMARY:Curves 13th Annual Food Drive
DESCRIPTION:Come & Join Us Again In Helping Out The Hartland Food Pantry! During the 13th Annual Food Drive\, we will be collecting non-perishable foods for our local food pantry. The month of April also offers our best membership deals! Bring in a bag of groceries during the month of April and join for FREE! Offer open to New Members Only! (Not Valid with any other offer)
X-ALT-DESC;FMTTYPE=text/html:Come &amp\; Join Us Again In Helping Out The Hartland Food Pantry! During the 13th Annual Food Drive\, we will be collecting non-perishable foods for our local food pantry. The month of April&nbsp\;also offers our best membership deals! Bring in a bag of groceries during the month of April&nbsp\;and join for FREE! Offer open to New Members Only! (Not Valid with any other offer)
LOCATION:600 Hartbrook Drive - Hartbrook Mall - Hartland\, WI
UID:e.522.130797
SEQUENCE:3
DTSTAMP:20260422T183743Z
URL:https://business.hartland-wi.org/events/details/curves-13th-annual-food-drive-04-01-2011-130797
END:VEVENT

END:VCALENDAR
