BEGIN:VCALENDAR
VERSION:2.0
PRODID:-//ChamberMaster//Event Calendar 2.0//EN
METHOD:PUBLISH
X-PUBLISHED-TTL:P3D
REFRESH-INTERVAL:P3D
CALSCALE:GREGORIAN
BEGIN:VEVENT
DTSTART:20140212T220000Z
DTEND:20140213T020000Z
X-MICROSOFT-CDO-ALLDAYEVENT:FALSE
SUMMARY:Culvers Fundraiser for Joan Breest
DESCRIPTION:Culvers Fundraiser For Joan Breest\n\n	\n\n	Your donations are in honor of Joan\, who is battling terminal cancer. \n\n	She has been a dedicated volunteer/employee for the\n\n	Hartland Food Pantry for 25 years!\n\n	\n\n	Click Here for Detailed Flyer \n\n	\n\n	\n\n	10% of proceeds to benefit the Hartland Food Pantry
X-ALT-DESC;FMTTYPE=text/html:<div style="text-align: center\;">\n	<span style="color: rgb(0\, 0\, 205)\;"><u><strong>Culvers Fundraiser For Joan Breest</strong></u></span><br />\n	<br />\n	<span style="color: rgb(128\, 0\, 128)\;"><em>Your donations are in honor of Joan\, who is battling terminal cancer.&nbsp\;<br />\n	She has been a dedicated volunteer/employee&nbsp\;for the<br />\n	Hartland Food Pantry for 25 years!</em></span><br />\n	<br />\n	<strong><a href="http://cloud.chambermaster.com/userfiles/UserFiles/chambers/522/File/FOODPANTRYFUNDRAISERdraft3.pdf"><span style="background-color: rgb(255\, 255\, 0)\;">Click&nbsp\;Here for&nbsp\;Detailed Flyer&nbsp\;</span></a></strong><br />\n	<br />\n	<br />\n	<span style="color: rgb(0\, 0\, 205)\;">10% of proceeds to benefit the Hartland Food Pantry</span></div>\n
LOCATION:Culvers 701 Industrial Ct. Hartland\, WI 53029
UID:e.522.132815
SEQUENCE:3
DTSTAMP:20260420T181134Z
URL:https://business.hartland-wi.org/events/details/culvers-fundraiser-for-joan-breest-02-12-2014-132815
END:VEVENT

END:VCALENDAR
