BEGIN:VCALENDAR
VERSION:2.0
PRODID:-//ChamberMaster//Event Calendar 2.0//EN
METHOD:PUBLISH
X-PUBLISHED-TTL:P3D
REFRESH-INTERVAL:P3D
CALSCALE:GREGORIAN
BEGIN:VEVENT
DTSTART:20121202T180000Z
DTEND:20121202T230000Z
X-MICROSOFT-CDO-ALLDAYEVENT:FALSE
SUMMARY:Craft Fair
DESCRIPTION:Over 20 vendors displaying arts & crafts and specialty food items. Great for holiday shopping in a relaxed atmosphere. Food and beverages will be available for the public. Come and shop\, have a sandwich and relax at the bar. Limited vendor spaces are still available for $10 each (tables provided) Questions? Contact Janet at 262-719-9971.
X-ALT-DESC;FMTTYPE=text/html:<span style="font-size: 12px"><strong>&nbsp\;&nbsp\;<span style="font-size: 14px"> Over 20 vendors displaying arts &amp\; crafts and specialty food items. Great for holiday shopping in a relaxed atmosphere. Food and beverages will be available for the public. Come and shop\, have a sandwich and relax at the bar. Limited vendor spaces are still available for $10 each (tables provided) Questions? Contact Janet at 262-719-9971.</span></strong></span>
LOCATION:American Legion Post - 231 Goodwin Ave\, Hartland WI.
UID:e.522.132036
SEQUENCE:3
DTSTAMP:20260421T041432Z
URL:https://business.hartland-wi.org/events/details/craft-fair-12-02-2012-132036
END:VEVENT

END:VCALENDAR
