BEGIN:VCALENDAR
VERSION:2.0
PRODID:-//ChamberMaster//Event Calendar 2.0//EN
METHOD:PUBLISH
X-PUBLISHED-TTL:P3D
REFRESH-INTERVAL:P3D
CALSCALE:GREGORIAN
BEGIN:VEVENT
DTSTART:20110603T160000Z
DTEND:20110604T000000Z
X-MICROSOFT-CDO-ALLDAYEVENT:FALSE
SUMMARY:Connected By Links -Tri-Chamber Golf Outing
DESCRIPTION:"Connected By Links"\n\n	Linking Businesses On and Off The Course\n\n	Annual Tri-Chamber Golf Outing\n\n	Friday\, June 3\, 2011\n\n	11:00 am - 7:00 pm\n\n	 \n\n	The Hartland Chamber teams up with two other local chambers for this annual event at\n\n	Western Lakes Golf course.  All chamber members and their associates\, as well as the general public are invited to participate in a day of golf\, food\, fun and networking.\n\n	 \n\n	Registration for Sponsorships\,Golfers and Door Prizes has begun!\n\n	 \n\n	Click for Golfer Registration\n\n	Click for Sponsorship and Door Prize Opportunities Available
X-ALT-DESC;FMTTYPE=text/html:<div style="text-align: center">\n	<span style="font-size: medium"><strong>&quot\;Connected By Links&quot\;</strong></span></div>\n<div style="text-align: center">\n	<span style="font-size: larger"><strong>Linking Businesses On and Off The Course</strong></span></div>\n<div style="text-align: center">\n	<span style="font-size: medium"><strong>Annual Tri-Chamber Golf Outing</strong></span></div>\n<div style="text-align: center">\n	<span style="font-size: medium"><strong>Friday\, June 3\, 2011</strong></span></div>\n<div style="text-align: center">\n	<span style="font-size: medium"><strong>11:00 am - 7:00 pm</strong></span></div>\n<div style="text-align: center">\n	&nbsp\;</div>\n<div style="text-align: center">\n	The Hartland Chamber teams up with two other local chambers for this annual event at</div>\n<div style="text-align: center">\n	Western Lakes Golf course.&nbsp\; All chamber members and their associates\, as well as the general public&nbsp\;are invited to participate in a day of golf\, food\, fun and networking.</div>\n<div style="text-align: center">\n	&nbsp\;</div>\n<div style="text-align: center">\n	<strong><span style="background-color: #ffff00"><span style="font-size: larger"><span style="font-family: comic sans ms">Registration for Sponsorships\,Golfers and Door Prizes has begun!</span></span></span></strong></div>\n<div style="text-align: center">\n	&nbsp\;</div>\n<div style="text-align: center">\n	Click for <a href="http://cloud.chambermaster.com/userfiles/UserFiles/chambers/522/File/Golfer%20Registration%20Form%202011.pdf"><span style="color: #ff0000"><em>Golfer Registration</em></span></a></div>\n<div style="text-align: center">\n	Click for <span style="color: #ff0000"><em><a href="http://cloud.chambermaster.com/userfiles/UserFiles/chambers/522/File/2011%20Sponsorship%20Form%20as%20of%20May%209.pdf">Sponsorship and Door Prize Opportunities</a> Available</em></span></div>\n
LOCATION:Western Lakes Golf CourseW287 N1963 Oakton RoadPewaukee\, Wisconsin
UID:e.522.131275
SEQUENCE:3
DTSTAMP:20260422T150502Z
URL:https://business.hartland-wi.org/events/details/connected-by-links-tri-chamber-golf-outing-06-03-2011-131275
END:VEVENT

END:VCALENDAR
