BEGIN:VCALENDAR
VERSION:2.0
PRODID:-//ChamberMaster//Event Calendar 2.0//EN
METHOD:PUBLISH
X-PUBLISHED-TTL:P3D
REFRESH-INTERVAL:P3D
CALSCALE:GREGORIAN
BEGIN:VEVENT
DTSTART;VALUE=DATE:20180602
DTEND;VALUE=DATE:20180603
TRANSP:TRANSPARENT
X-MICROSOFT-CDO-ALLDAYEVENT:TRUE
SUMMARY:Complimentary 14 day test drive!!
DESCRIPTION:Come join us at Burn Boot Camp - Lake Country for a complimentary 14 day trial! \n\n\n\nIncluded in this trial:\n\n	Complimentary childcare at select camps\n	1:1 Focus meetings offering nutrional advice with our trainer\n	Amazing supportive community like none other\n\nNo credit card or obligation required!
X-ALT-DESC;FMTTYPE=text/html:Come join us at Burn Boot Camp - Lake Country for a complimentary 14 day trial!&nbsp\;<br />\n<br />\nIncluded in this trial:\n<ul>\n	<li>Complimentary childcare at select camps</li>\n	<li>1:1 Focus meetings offering nutrional advice with our trainer</li>\n	<li>Amazing supportive community like none other</li>\n</ul>\nNo credit card or obligation required!
LOCATION:Located in Sussex across from Meijer
UID:e.522.137280
SEQUENCE:3
DTSTAMP:20260424T022738Z
URL:https://business.hartland-wi.org/events/details/complimentary-14-day-test-drive-06-02-2018-137280
END:VEVENT

END:VCALENDAR
