BEGIN:VCALENDAR
VERSION:2.0
PRODID:-//ChamberMaster//Event Calendar 2.0//EN
METHOD:PUBLISH
X-PUBLISHED-TTL:P3D
REFRESH-INTERVAL:P3D
CALSCALE:GREGORIAN
BEGIN:VEVENT
DTSTART:20190521T220000Z
DTEND:20190522T000000Z
X-MICROSOFT-CDO-ALLDAYEVENT:FALSE
SUMMARY:Community Health Beat: Understanding Autism
DESCRIPTION:Community Health Beat\n\nUnderstanding Autism\n\n\n\nAutism spectrum disorder is a developmental disability that can cause significant social\, communication and behavioral challenges.  There is often nothing about how people with Autism appears that sets them apart from other people\, but people with Autism may communicatie\, interact\, behave\, and learn in ways that are different from most other people.  Join Emmy Flegner LPC with Cornerstone Counseling and lear:\n\nSigns & Symptoms\n\nDiagnosis\n\nTreatment\n\nCauses and Risk Factors\n\nWho is Affected\n\n\n\nRegistration is required by phoning:  888-863-5502 or 262-434-1248\n\nTuesday\, May 21\, 2019\n\n5-7 p.m.
X-ALT-DESC;FMTTYPE=text/html:<div style="text-align: center\;"><strong>Community Health Beat<br />\nUnderstanding Autism<br />\n<br />\nAutism spectrum disorder is a developmental disability that can cause significant social\, communication and behavioral challenges.&nbsp\; There is often nothing about how people with Autism appears that sets them apart from other people\, but people with Autism may communicatie\, interact\, behave\, and learn in ways that are different from most other people.&nbsp\; Join Emmy Flegner LPC with Cornerstone Counseling and lear:<br />\nSigns &amp\; Symptoms<br />\nDiagnosis<br />\nTreatment<br />\nCauses and Risk Factors<br />\nWho is Affected<br />\n<br />\nRegistration is required by phoning:&nbsp\; 888-863-5502 or 262-434-1248<br />\nTuesday\, May 21\, 2019<br />\n5-7 p.m.</strong><br />\n<br />\n&nbsp\;</div>\n
LOCATION:Aurora Medical Center Summit 36500 Aurora Drive Summit\, WI 53066
UID:e.522.137775
SEQUENCE:3
DTSTAMP:20260424T213029Z
URL:https://business.hartland-wi.org/events/details/community-health-beat-understanding-autism-137775
END:VEVENT

END:VCALENDAR
