BEGIN:VCALENDAR
VERSION:2.0
PRODID:-//ChamberMaster//Event Calendar 2.0//EN
METHOD:PUBLISH
X-PUBLISHED-TTL:P3D
REFRESH-INTERVAL:P3D
CALSCALE:GREGORIAN
BEGIN:VEVENT
DTSTART:20190521T100000Z
DTEND:20190521T120000Z
X-MICROSOFT-CDO-ALLDAYEVENT:FALSE
SUMMARY:Community Health Beat: Understanding Autism
DESCRIPTION:Community Health Beat:  Understanding Autism\n\n\n\nAutism spectrum disorder is a dvelopmental disability that can cause significant social\, communication and behavioral challenges.  There is often nothing about how people with ASD look that sets them apart from other people\, but people with ASD may communicate\, interact\, behave\, and learn in ways tht are different from most other people.  Join Cornerstone Counseling and learn:\n\nSigns & Symptoms\n\nDiagnosis\n\nTreatment\n\nCauses and Risk fActors\n\nWho is Affected\n\n\n\nRegistration is required by phoning:  888-863-5502 or contact Trish Golden at 262-434-1248
X-ALT-DESC;FMTTYPE=text/html:<div style="text-align: center\;"><strong>Community Health Beat:&nbsp\; Understanding Autism<br />\n<br />\nAutism spectrum disorder is a dvelopmental disability that can cause significant social\, communication and behavioral challenges.&nbsp\; There is often nothing about how people with ASD look that sets them apart from other people\, but people with ASD may communicate\, interact\, behave\, and learn in ways tht are different from most other people.&nbsp\; Join Cornerstone Counseling and learn:<br />\nSigns &amp\; Symptoms<br />\nDiagnosis<br />\nTreatment<br />\nCauses and Risk fActors<br />\nWho is Affected<br />\n<br />\nRegistration is required by phoning:&nbsp\; 888-863-5502 or contact Trish Golden at 262-434-1248</strong><br />\n&nbsp\;</div>\n
LOCATION:Auora Medical Center Summit 36500 Aurora Drive Summit\, WI
UID:e.522.137780
SEQUENCE:3
DTSTAMP:20260424T213104Z
URL:https://business.hartland-wi.org/events/details/community-health-beat-understanding-autism-05-21-2019-137780
END:VEVENT

END:VCALENDAR
