BEGIN:VCALENDAR
VERSION:2.0
PRODID:-//ChamberMaster//Event Calendar 2.0//EN
METHOD:PUBLISH
X-PUBLISHED-TTL:P3D
REFRESH-INTERVAL:P3D
CALSCALE:GREGORIAN
BEGIN:VEVENT
DTSTART:20120907T160000Z
DTEND:20120907T230000Z
X-MICROSOFT-CDO-ALLDAYEVENT:FALSE
SUMMARY:Community Cookout
DESCRIPTION:ISB Community Bank is hosting "A Community Cookout." \n\n\n\nJoin ISB Community Bank for a cookout and visit with our friendly staff. We will be serving complimentary brats\, hot dogs\, burgers\, chips\, beverages\, and dessert.\n\n\n\n    Date: Friday\, September 7th\n\n    Time: 11:00am - 6:00pm\n\n    Cost: FREE\n\n    Where: ISB Community Bank - 3201 Village Square - Hartland\, WI\n\n\n\nWhile at the cookout\, register to win a "Badger Tailgate Package."  Package includes: Two Badger Tickets to the game on 11/17/12 against Ohio State & more. ($165 value.) \n\n\n\nTo register/win: No purchase necessary. Entries will only be accepted at the Hartland location on 09/07/12. Limit one drawing entry per person. Must be 18 years or older. Customers and non-customers of ISB Community Bank are eligible. Odds of winning will be based on the number of entries. ISB Community Bank does not sell names to third parties. ISB Community Bank employees and their family members within their households are not eligible. Winner will be notified by the week of 9/17/12. Member FDIC.
X-ALT-DESC;FMTTYPE=text/html:<span style="font-size: 14px"><strong>ISB Community Bank is hosting &quot\;A Community Cookout.&quot\; </strong><br />\n<br />\nJoin ISB Community Bank for a cookout and visit with our friendly staff. We will be serving complimentary brats\, hot dogs\, burgers\, chips\, beverages\, and dessert.<br />\n<br />\n&nbsp\;&nbsp\;&nbsp\;&nbsp\;Date: Friday\, September 7th<br />\n&nbsp\;&nbsp\;&nbsp\;&nbsp\;Time: 11:00am - 6:00pm<br />\n&nbsp\;&nbsp\;&nbsp\;&nbsp\;Cost: FREE<br />\n&nbsp\;&nbsp\;&nbsp\;&nbsp\;Where: ISB Community Bank - 3201 Village Square - Hartland\, WI<br />\n<br />\nWhile at the cookout\, register to win a &ldquo\;Badger Tailgate Package.&rdquo\;&nbsp\; Package includes: Two Badger Tickets to the game on 11/17/12 against Ohio State &amp\; more. ($165 value.) </span><br />\n<br />\n<span style="font-size: 8px">To register/win: No purchase necessary. Entries will only be accepted at the Hartland location on 09/07/12. Limit one drawing entry per person. Must be 18 years or older. Customers and non-customers of ISB Community Bank are eligible. Odds of winning will be based on the number of entries. ISB Community Bank does not sell names to third parties. ISB Community Bank employees and their family members within their households are not eligible. Winner will be notified by the week of 9/17/12. Member FDIC.</span>
LOCATION:ISB Community Bank - 3201 Village Square Drive\, Hartland\, WI (located at Hwys 83 & 16)
UID:e.522.132012
SEQUENCE:3
DTSTAMP:20260421T093316Z
URL:https://business.hartland-wi.org/events/details/community-cookout-09-07-2012-132012
END:VEVENT

END:VCALENDAR
