BEGIN:VCALENDAR
VERSION:2.0
PRODID:-//ChamberMaster//Event Calendar 2.0//EN
METHOD:PUBLISH
X-PUBLISHED-TTL:P3D
REFRESH-INTERVAL:P3D
CALSCALE:GREGORIAN
BEGIN:VEVENT
DTSTART:20120501T220000Z
DTEND:20120502T013000Z
X-MICROSOFT-CDO-ALLDAYEVENT:FALSE
SUMMARY:Community Chambers of Waukesha County - WCEDC Annual Meeting
DESCRIPTION:You're Invited!!\n\n	 \nThe Hartland Chamber of Commerce\, as a member of the Community Chambers of Waukesha County (CCWC)\, is pleased to partner with WCEDC in announcing their Annual Meeting   Celebrating Innovation In Waukesha County.  Please join us on May 1 and learn what innovations are in our own backyard.\n\n\n\nClick Here For Details.\n\n\n\nPlease note that members of the Hartland Chamber\, being a member of the CCWC\, will receive the Early Bird rate of $35 all the way through 5/1\, so if you register after 4/20\, call the Hartland Chamber of Commerce for your Promotional Code to receive the special pricing.
X-ALT-DESC;FMTTYPE=text/html:<div style="text-align: center">\n	<span style="font-size: 14px"><span style="font-family: comic sans ms"><strong><span style="color: #008000">You&#39\;re Invited!!</span></strong></span></span><br />\n	&nbsp\;</div>\n<strong><span style="font-size: 10pt"><span style="font-family: arial\, sans-serif">The Hartland Chamber of Commerce\, as a member of the Community Chambers of Waukesha County (CCWC)\, is pleased to partner with WCEDC in announcing their Annual Meeting &ndash\; Celebrating Innovation In Waukesha County.&nbsp\; Please join us on May 1 and learn what innovations are in our own backyard.</span><br />\n<br />\n<a href="http://cloud.chambermaster.com/userfiles/UserFiles/chambers/522/File/WCEDCAnnualMeetingInvite.pdf"><span style="color: #0000ff">Click Here For Details.</span></a></span><br />\n<br />\nPlease note that members of the Hartland Chamber\, being a member of the CCWC\, will receive the Early Bird rate of $35 all the way through 5/1\, so if you register after 4/20\, call the Hartland Chamber of Commerce for your Promotional Code to receive the special pricing.</strong>
LOCATION:Wisconsin Expo Center 1000 Northview Road Waukesha\, WI 53188
UID:e.522.131944
SEQUENCE:3
DTSTAMP:20260421T161916Z
URL:https://business.hartland-wi.org/events/details/community-chambers-of-waukesha-county-wcedc-annual-meeting-05-01-2012-131944
END:VEVENT

END:VCALENDAR
