BEGIN:VCALENDAR
VERSION:2.0
PRODID:-//ChamberMaster//Event Calendar 2.0//EN
METHOD:PUBLISH
X-PUBLISHED-TTL:P3D
REFRESH-INTERVAL:P3D
CALSCALE:GREGORIAN
BEGIN:VEVENT
DTSTART:20140717T140000Z
DTEND:20140717T230000Z
X-MICROSOFT-CDO-ALLDAYEVENT:FALSE
SUMMARY:Community Appreciation Day at Forward Chiropractic!
DESCRIPTION:Community Appreciation Day!\n\n\n\nWHO: Anyone & Everyone! Friends\, family\, and of course\, YOU!\n\nWHAT: All Chiropractic services this dayare absolutely FREE\n\nFREE EXAMS & X-RAYS for NEW PATENTS\n\nFREE ADJUSTMENTS for CURRENT PATIENTS\n\nWHY: Forward Chiropractic wants to THANK all of you for helping make us a success and hope you will tell everyone of our gratiude\, and invite them into our Chiropractic Circle!\n\n\n\nPLUS: Over $2000 in free give aways including 50' flat screen and Apple iPad just for showing up!
X-ALT-DESC;FMTTYPE=text/html:<strong>Community Appreciation Day!</strong><br />\n<br />\n<strong><u>WHO:</u></strong> Anyone &amp\; Everyone! Friends\, family\, and of course\, YOU!<br />\n<strong><u>WHAT:</u></strong> All Chiropractic services this dayare absolutely <strong>FREE</strong><br />\n<strong><u>FREE</u></strong> <strong>EXAMS &amp\; X-RAYS</strong> for NEW PATENTS<br />\n<strong><u>FREE</u></strong> <strong>ADJUSTMENTS</strong> for CURRENT PATIENTS<br />\n<strong><u>WHY:</u></strong> Forward Chiropractic wants to THANK all of you for helping make us a success and hope you will tell everyone of our gratiude\, and invite them into our Chiropractic Circle!<br />\n<br />\n<em><u><strong>PLUS:</strong></u></em> Over $2000 in free give aways including 50&#39\; flat screen and Apple iPad just for showing up!
LOCATION:540 Hartbrook Drive Hartland\, WI 53029
UID:e.522.133066
SEQUENCE:3
DTSTAMP:20260420T175315Z
URL:https://business.hartland-wi.org/events/details/community-appreciation-day-at-forward-chiropractic-07-17-2014-133066
END:VEVENT

END:VCALENDAR
