BEGIN:VCALENDAR
VERSION:2.0
PRODID:-//ChamberMaster//Event Calendar 2.0//EN
METHOD:PUBLISH
X-PUBLISHED-TTL:P3D
REFRESH-INTERVAL:P3D
CALSCALE:GREGORIAN
BEGIN:VEVENT
DTSTART:20181110T010000Z
DTEND:20181110T021500Z
X-MICROSOFT-CDO-ALLDAYEVENT:FALSE
SUMMARY:Comedy Sportz
DESCRIPTION:Zion Lutheran School in Hartland would like to invite local families to a free evening of fellowship and laughter.  Zion will host a full ComedySportz match in their gymnasium on Friday\, November 9th at 7pm.\n\n\n\n\nComedySportz is an interactive and fun show where everyone can get involved and laugh together.  It is 100% clean\, family-friendly\, positive entertainment that the entire family will love!
X-ALT-DESC;FMTTYPE=text/html:<div>Zion Lutheran School in Hartland would like to invite local families to a free evening of fellowship and laughter.&nbsp\; Zion will host a full ComedySportz match in their gymnasium on Friday\, November 9th at 7pm.</div>\n\n<div>\n<div>\n<div>\n<div>ComedySportz is an interactive and fun show where everyone can get involved and laugh together.&nbsp\; It is 100% clean\, family-friendly\, positive entertainment that the entire family will love!</div>\n\n<div>&nbsp\;</div>\n\n<div>&nbsp\;</div>\n\n<div>&nbsp\;</div>\n\n<div>&nbsp\;</div>\n\n<div>&nbsp\;</div>\n\n<div>&nbsp\;</div>\n</div>\n\n<div>&nbsp\;</div>\n\n<div>&nbsp\;</div>\n</div>\n\n<div>&nbsp\;</div>\n</div>\n
LOCATION:Zion Lutheran School 1023 East Capitol Drive Hartland\, WI. 53029
UID:e.522.137588
SEQUENCE:3
DTSTAMP:20260424T102426Z
URL:https://business.hartland-wi.org/events/details/comedy-sportz-137588
END:VEVENT

END:VCALENDAR
