BEGIN:VCALENDAR
VERSION:2.0
PRODID:-//ChamberMaster//Event Calendar 2.0//EN
METHOD:PUBLISH
X-PUBLISHED-TTL:P3D
REFRESH-INTERVAL:P3D
CALSCALE:GREGORIAN
BEGIN:VEVENT
DTSTART:20120721T003000Z
DTEND:20120721T023000Z
X-MICROSOFT-CDO-ALLDAYEVENT:FALSE
SUMMARY:Comedy and Magic Under the Stars at SummerStage of Delafield
DESCRIPTION:Enjoy the magic of Glen Gerard and comedy of Mark Shilobrit. Join us for an evening of fun for the whole family.
X-ALT-DESC;FMTTYPE=text/html:Enjoy the magic of Glen Gerard and comedy of Mark Shilobrit. Join us for an evening of fun for the whole family.
LOCATION:SummerStage at Lapham Peak State Park
UID:e.522.131949
SEQUENCE:3
DTSTAMP:20260421T143657Z
URL:https://business.hartland-wi.org/events/details/comedy-and-magic-under-the-stars-at-summerstage-of-delafield-07-20-2012-131949
END:VEVENT

END:VCALENDAR
