BEGIN:VCALENDAR
VERSION:2.0
PRODID:-//ChamberMaster//Event Calendar 2.0//EN
METHOD:PUBLISH
X-PUBLISHED-TTL:P3D
REFRESH-INTERVAL:P3D
CALSCALE:GREGORIAN
BEGIN:VEVENT
DTSTART:20180523T200000Z
DTEND:20180523T230000Z
X-MICROSOFT-CDO-ALLDAYEVENT:FALSE
SUMMARY:Come meet the da Vinci Xi Robotic Surgical System
DESCRIPTION:Please join us for an interactive hands on learning experience and see what robotic assisted surgery is a ll about!
X-ALT-DESC;FMTTYPE=text/html:<div style="text-align: center\;"><strong>Please join us for an interactive hands on learning experience and see what robotic assisted surgery is a ll about!</strong><br />\n<br />\n&nbsp\;</div>\n
LOCATION:Aurora Health Center - Summit Medical Office Building Main Clinic Lobby 36500 Aurora Drive Summit\, WI 53066
UID:e.522.137244
SEQUENCE:3
DTSTAMP:20260424T011011Z
URL:https://business.hartland-wi.org/events/details/come-meet-the-da-vinci-xi-robotic-surgical-system-137244
END:VEVENT

END:VCALENDAR
