BEGIN:VCALENDAR
VERSION:2.0
PRODID:-//ChamberMaster//Event Calendar 2.0//EN
METHOD:PUBLISH
X-PUBLISHED-TTL:P3D
REFRESH-INTERVAL:P3D
CALSCALE:GREGORIAN
BEGIN:VEVENT
DTSTART;VALUE=DATE:20110921
DTEND;VALUE=DATE:20111027
TRANSP:TRANSPARENT
X-MICROSOFT-CDO-ALLDAYEVENT:TRUE
SUMMARY:Collection for Hartland Food Pantry
DESCRIPTION:Hartland Center of Alternative Medicine will be collecting items for the Hartland Food Pantry.\n\n\n\nStop by the clinic and donate any of the following items\,\n\nto benefit your local Food Pantry:\n\n\n\n-Produce (fruits & vegetables)\n\n-Non Perishable Food Items (boxed & canned goods)\n\n-Back to School Snacks\n\n-Toilet Paper\n\n-Laundry Soap\n\n-Bath Soap\n\n\n\nThese donations are needed all year long\, and help a local family in need.  \n\n*In one hour\, the pantry fed 29 families (approx. 100 people).\n\n\n\nPlease feel free to drop off donations anytime during clinic hours & during the Downtown Restaurant Crawl!!
X-ALT-DESC;FMTTYPE=text/html:<span style="font-size: 14px"><strong>Hartland Center of Alternative Medicine will be collecting items for the Hartland Food Pantry.<br />\n<br />\nStop by the clinic and donate any of the following items\,<br />\nto benefit your local&nbsp\;Food Pantry:</strong></span><br />\n<br />\n<span style="color: #0000cd"><strong>-Produce (fruits &amp\; vegetables)<br />\n-Non Perishable Food Items (boxed &amp\; canned goods)<br />\n-Back to School Snacks<br />\n-Toilet Paper<br />\n-Laundry Soap<br />\n-Bath Soap</strong></span><br />\n<br />\n<strong>These donations are needed all year long\, and help a local family in need. &nbsp\;<br />\n*In one hour\, the pantry fed 29 families (approx. 100 people).<br />\n<br />\n<span style="font-size: 14px"><span style="color: #0000cd">Please feel free to drop off donations anytime during clinic hours &amp\; during the Downtown Restaurant Crawl!!</span></span></strong>
LOCATION:Hartland Center of Alternative Medicine
UID:e.522.131762
SEQUENCE:3
DTSTAMP:20260422T042310Z
URL:https://business.hartland-wi.org/events/details/collection-for-hartland-food-pantry-09-21-2011-131762
END:VEVENT

END:VCALENDAR
