BEGIN:VCALENDAR
VERSION:2.0
PRODID:-//ChamberMaster//Event Calendar 2.0//EN
METHOD:PUBLISH
X-PUBLISHED-TTL:P3D
REFRESH-INTERVAL:P3D
CALSCALE:GREGORIAN
BEGIN:VEVENT
DTSTART:20170405T170000Z
DTEND:20170405T170000Z
X-MICROSOFT-CDO-ALLDAYEVENT:FALSE
SUMMARY:Citizens Police Academy
DESCRIPTION:Police Citizen's Academy\n\nWednesday Evenings\n\n6:00 - 9:30 pm\n\nFebruary 15th - April 19th\n\n\n\nEducating the community on police operations and behind the scenes practices\n\n\n\nThis will be our 5th year of having a fun time building relationships with community members.\n\n\n\nTopics covered will be Drugs and impairment\, Identity theft/computer crimes\, Use of Force\, Emergency Vehicle Operations\, Fire and EMS\, S.C.I.T (swat team) and other areas of operation.  \n\n\n\n*This is not a certification and you are not physically required to do anything during this course.  This is simply a way to educate our community about the police departments/fire department and help you get to know officers and vice versa.  Hope to see you there!
X-ALT-DESC;FMTTYPE=text/html:<div style="text-align: center\;"><strong><span style="color: rgb(0\, 0\, 205)\;"><u><span style="font-size: 16px\;">Police Citizen&#39\;s Academy</span></u><br />\nWednesday Evenings<br />\n6:00 - 9:30 pm<br />\nFebruary&nbsp\;15th -&nbsp\;April 19th</span><br />\n<br />\n<span style="color: rgb(255\, 0\, 0)\;"><span style="font-size: 14px\;"><em>Educating the community on police operations and behind the scenes practices</em></span></span><br />\n<br />\n<span style="color:#0000CD\;">This will be our 5th year of having a fun time building relationships with community members.</span><br />\n<br />\nTopics covered will be Drugs and impairment\, Identity theft/computer crimes\, Use of Force\, Emergency Vehicle Operations\, Fire and EMS\, S.C.I.T (swat team) and other areas of operation.&nbsp\;&nbsp\;<br />\n<br />\n*This is not a certification and you are not physically required to do anything during this course. &nbsp\;This is simply a way to educate our community about the police departments/fire department and help you get to know officers and vice versa. &nbsp\;Hope to see you there!</strong></div>\n
LOCATION:Various locations depending on the topic
UID:e.522.133867
SEQUENCE:3
DTSTAMP:20260423T031528Z
URL:https://business.hartland-wi.org/events/details/citizens-police-academy-04-05-2017-133867
END:VEVENT

END:VCALENDAR
