BEGIN:VCALENDAR
VERSION:2.0
PRODID:-//ChamberMaster//Event Calendar 2.0//EN
METHOD:PUBLISH
X-PUBLISHED-TTL:P3D
REFRESH-INTERVAL:P3D
CALSCALE:GREGORIAN
BEGIN:VEVENT
DTSTART:20181003T180000Z
DTEND:20181003T203000Z
X-MICROSOFT-CDO-ALLDAYEVENT:FALSE
SUMMARY:Chronic Pain Self-Management Fall 2018
DESCRIPTION:Chronic Pain Self Management\n\nPlease Join Us & Let Us Help!\n\n7-Week Program\n\n\n\nThis workshop participants are given information and practical tools to help them develop self management skills\, improve self confidence and increase motivation to better their chronic pain symptoms\, challenges and day to day tasks.  This workshop is for adults living with chronic pain (such as musculoskeletal pain\, fibromyalgia\, repetive strain injury\, chronic regional pain syndrome and post stroke.\n\n\n\nRegistration is required by phoning:  888-863-5502 or contact Trish Golden at 262-434-1248
X-ALT-DESC;FMTTYPE=text/html:<div style="text-align: center\;"><strong>Chronic Pain Self Management<br />\nPlease Join Us &amp\; Let Us Help!<br />\n7-Week Program<br />\n<br />\nThis workshop participants are given information and practical tools to help them develop self management skills\, improve self confidence and increase motivation to better their chronic pain symptoms\, challenges and day to day tasks.&nbsp\; This workshop is for adults living with chronic pain (such as musculoskeletal pain\, fibromyalgia\, repetive strain injury\, chronic regional pain syndrome and post stroke.<br />\n<br />\nRegistration is required by phoning:&nbsp\; 888-863-5502 or contact Trish Golden at 262-434-1248</strong><br />\n&nbsp\;</div>\n
LOCATION:Aurora Medical Center Summit Pabst Room 36500 Aurora Drive Summit\, Wi
UID:e.522.137500
SEQUENCE:3
DTSTAMP:20260424T090657Z
URL:https://business.hartland-wi.org/events/details/chronic-pain-self-management-fall-2018-137500
END:VEVENT

END:VCALENDAR
