BEGIN:VCALENDAR
VERSION:2.0
PRODID:-//ChamberMaster//Event Calendar 2.0//EN
METHOD:PUBLISH
X-PUBLISHED-TTL:P3D
REFRESH-INTERVAL:P3D
CALSCALE:GREGORIAN
BEGIN:VEVENT
DTSTART:20180912T180000Z
DTEND:20180912T200000Z
X-MICROSOFT-CDO-ALLDAYEVENT:FALSE
SUMMARY:Chronic Pain Self Management - 7 Week Program
DESCRIPTION:Chronic Pain Self Management\n\nPlease Join Us & Let Us Help!\n\n7-Week Program\n\nThis workshop participants are given information and practical tools to help them develop self management skills\, improve self confidence and increase motivation to better their chronic pain symptoms\, challenges and day to day tasks.  This workshop is for adults living with chronic pain (such as musculoskeletal pain\, fibromyalgia\, repetitive strain injury\, chronic regional pan syndrom and post stroke)\n\n\n\nRegistration is required:  888-863-5502 or contact Trish Golden at 262-434-1248
X-ALT-DESC;FMTTYPE=text/html:<div style="text-align: center\;"><strong>Chronic Pain Self Management<br />\nPlease Join Us &amp\; Let Us Help!<br />\n7-Week Program<br />\nThis workshop participants are given information and practical tools to help them develop self management skills\, improve self confidence and increase motivation to better their chronic pain symptoms\, challenges and day to day tasks.&nbsp\; This workshop is for adults living with chronic pain (such as musculoskeletal pain\, fibromyalgia\, repetitive strain injury\, chronic regional pan syndrom and post stroke)<br />\n<br />\nRegistration is required:&nbsp\; 888-863-5502 or contact Trish Golden at 262-434-1248</strong></div>\n
LOCATION:Aurora Medical center Summit - Pabst Room 36500 Aurora Drive Summit\, WI
UID:e.522.137251
SEQUENCE:3
DTSTAMP:20260424T072810Z
URL:https://business.hartland-wi.org/events/details/chronic-pain-self-management-7-week-program-137251
END:VEVENT

END:VCALENDAR
