BEGIN:VCALENDAR
VERSION:2.0
PRODID:-//ChamberMaster//Event Calendar 2.0//EN
METHOD:PUBLISH
X-PUBLISHED-TTL:P3D
REFRESH-INTERVAL:P3D
CALSCALE:GREGORIAN
BEGIN:VEVENT
DTSTART:20170512T230000Z
DTEND:20170513T020000Z
X-MICROSOFT-CDO-ALLDAYEVENT:FALSE
SUMMARY:Chillin' On The Trail\, A "Walk" of Art
DESCRIPTION:Art Show and Reception\, free to the public!\n\nCelebrate Hartland's official designation as an Ice Age Trail Community and stroll through downtown Hartland visiting various establishments\, taking in the sites of exquisite artwork created by local budding artists.\n\n\n\nLake Country Fine Arts School and Gallery -  112 W. Capitol Drive\n\nHartland Family Chiropractic - 211 Cottonwood Avenue\n\nThis Great Coffee Place - 365 Cottonwood Avenue\n\nHartland Public Library - 110 E. Park Avenue\n\n\n\nThe Students participating are from our local schools:  Hartland Fine Arts Leadership Academy\, North Shore Middle School\, Life Entrepreneurial School\, Lake Country School\, Swallow Elementary School\, St. Charles Catholic School and Local Homeschoolers.\n\n\n\nSome of the featured art will include a Documentary created by students in Life Entrepreneurial School celebrating Hartland's 125 years\, and Fused Glass Tiles depicting trail scenes\, Paintings\, Sculptures\, Drawings and Paper Mache representing animals and landscape scenes.\n\n\n\nThe event is sponsored by Lake Country Fine Arts School and Gallery\, Hartland Lakeside Community Education and the Hartland Business Improvement District.\n\n\n\nFor more inormation please contact:\n\nMarlene Millevolte\n\nLake Country Fine Arts School and Gallery\n\n262-367-2900\n\nlakecountryfinearts@gmail.com
X-ALT-DESC;FMTTYPE=text/html:<span style="color: rgb(0\, 0\, 205)\;"><em><strong><span style="font-size: 16px\;"><u>Art Show and Reception\, free to the public!</u></span></strong></em></span><br />\n<strong><span style="color: rgb(0\, 0\, 255)\;">Celebrate Hartland&#39\;s official designation as an Ice Age Trail Community and stroll through downtown Hartland visiting various establishments\, taking in the sites of exquisite artwork created by local budding artists.</span><br />\n<br />\n<span style="color: rgb(0\, 100\, 0)\;">Lake Country Fine Arts School and Gallery - &nbsp\;112 W. Capitol Drive<br />\nHartland Family Chiropractic - 211 Cottonwood Avenue<br />\nThis Great Coffee Place - 365 Cottonwood Avenue<br />\nHartland&nbsp\;Public Library - 110 E. Park Avenue</span></strong><br />\n<br />\nThe Students participating are from our local schools: &nbsp\;Hartland Fine Arts Leadership Academy\, North Shore Middle School\, Life Entrepreneurial School\, Lake Country School\, Swallow Elementary School\, St. Charles Catholic School and Local Homeschoolers.<br />\n<br />\nSome of the featured art will include a Documentary created by students in Life Entrepreneurial School celebrating Hartland&#39\;s&nbsp\;125 years\, and Fused Glass Tiles depicting trail scenes\, Paintings\, Sculptures\, Drawings and Paper Mache representing animals and landscape scenes.<br />\n<br />\nThe event is sponsored by Lake Country Fine Arts School and Gallery\, Hartland Lakeside Community Education and the Hartland Business Improvement District.<br />\n<br />\nFor more inormation please contact:<br />\nMarlene Millevolte<br />\nLake Country Fine Arts School and Gallery<br />\n262-367-2900<br />\nlakecountryfinearts@gmail.com
LOCATION:Downtown Hartland
UID:e.522.134851
SEQUENCE:3
DTSTAMP:20260423T051751Z
URL:https://business.hartland-wi.org/events/details/chillin-on-the-trail-a-walk-of-art-134851
END:VEVENT

END:VCALENDAR
