BEGIN:VCALENDAR
VERSION:2.0
PRODID:-//ChamberMaster//Event Calendar 2.0//EN
METHOD:PUBLISH
X-PUBLISHED-TTL:P3D
REFRESH-INTERVAL:P3D
CALSCALE:GREGORIAN
BEGIN:VEVENT
DTSTART:20160513T230000Z
DTEND:20160514T020000Z
X-MICROSOFT-CDO-ALLDAYEVENT:FALSE
SUMMARY:Chillin' On The Trail\, A "Walk" of Art
DESCRIPTION:Art Show and Reception\, free to the public!\n\nCelebrate Hartland's official designation as an Ice Age Trail Community and stroll through downtown Hartland visiting various establishments\, taking in the sites of exquisite artwork created by local budding artists.\n\n\n\nLake Country Fine Arts School and Gallery -  112 W. Capitol Drive\n\nIllustrations Photography - 235 E. Capitol Drive\n\nHartland Public Library - 110 E. Park Avenue\n\nThis Great Coffee Place - 365 Cottonwood Avenue\n\n\n\nSponsored by Lake Country Fine Arts School and Gallery\, Hartland Lakeside Community Education and the Hartland Business Improvement District
X-ALT-DESC;FMTTYPE=text/html:<span style="color: rgb(0\, 0\, 205)\;"><em><strong><span style="font-size: 16px\;"><u>Art Show and Reception\, free to the public!</u></span></strong></em></span><br />\n<strong><span style="color: rgb(0\, 0\, 255)\;">Celebrate Hartland&#39\;s official designation as an Ice Age Trail Community and stroll through downtown Hartland visiting various establishments\, taking in the sites of exquisite artwork created by local budding artists.</span><br />\n<br />\n<span style="color: rgb(0\, 100\, 0)\;">Lake Country Fine Arts School and Gallery - &nbsp\;112 W. Capitol Drive<br />\nIllustrations Photography - 235 E. Capitol Drive<br />\nHartland Public Library - 110 E. Park Avenue<br />\nThis Great Coffee Place - 365 Cottonwood Avenue</span></strong><br />\n<br />\nSponsored by Lake Country Fine Arts School and Gallery\, Hartland Lakeside Community Education and the Hartland Business Improvement District
LOCATION:Downtown Hartland
UID:e.522.133387
SEQUENCE:3
DTSTAMP:20260422T095019Z
URL:https://business.hartland-wi.org/events/details/chillin-on-the-trail-a-walk-of-art-05-13-2016-133387
END:VEVENT

END:VCALENDAR
