BEGIN:VCALENDAR
VERSION:2.0
PRODID:-//ChamberMaster//Event Calendar 2.0//EN
METHOD:PUBLISH
X-PUBLISHED-TTL:P3D
REFRESH-INTERVAL:P3D
CALSCALE:GREGORIAN
BEGIN:VEVENT
DTSTART:20170226T160000Z
DTEND:20170226T173000Z
X-MICROSOFT-CDO-ALLDAYEVENT:FALSE
SUMMARY:Children's Musical
DESCRIPTION:"The Tale of Three Trees" will be presented by our children's choir program on Feb. 26 at the 10:00 service.  Based upon an American folktale\, this musical tells the story of Jesus' life in a timeless way as three trees have big dreams and discover God's plan for them.  We hope you will join us for this inspirational story that will speak to us all.
X-ALT-DESC;FMTTYPE=text/html:<span style="color:#222222"><span style="font-family:verdana\,sans-serif"><span style="font-size:9.5pt">&quot\;The Tale of Three Trees&quot\; will be presented by our children&#39\;s choir program on</span></span></span><span style="color:#222222"><span style="font-family:verdana\,sans-serif"><span style="font-size:9.5pt">&nbsp\;Feb. 26&nbsp\;</span></span></span><span style="color:#222222"><span style="font-family:verdana\,sans-serif"><span style="font-size:9.5pt">at the</span></span></span><span style="color:#222222"><span style="font-family:verdana\,sans-serif"><span style="font-size:9.5pt">&nbsp\;10:00&nbsp\;</span></span></span><span style="color:#222222"><span style="font-family:verdana\,sans-serif"><span style="font-size:9.5pt">service.&nbsp\; Based upon an American folktale\, this musical tells the story of Jesus&#39\; life in a timeless way as three trees have big dreams and discover God&#39\;s plan for them.&nbsp\; We hope you will join us for this inspirational story that will speak to us all. &nbsp\;</span></span></span>
LOCATION:Church of the Resurrection W287 N3700 North Shore Drive Pewaukee\, WI 53072
UID:e.522.133908
SEQUENCE:3
DTSTAMP:20260423T000532Z
URL:https://business.hartland-wi.org/events/details/children-s-musical-133908
END:VEVENT

END:VCALENDAR
