BEGIN:VCALENDAR
VERSION:2.0
PRODID:-//ChamberMaster//Event Calendar 2.0//EN
METHOD:PUBLISH
X-PUBLISHED-TTL:P3D
REFRESH-INTERVAL:P3D
CALSCALE:GREGORIAN
BEGIN:VEVENT
DTSTART:20181216T210000Z
DTEND:20181216T220000Z
X-MICROSOFT-CDO-ALLDAYEVENT:FALSE
SUMMARY:Children's Christmas Service
DESCRIPTION:Our Children's Christmas Service this year is entitled "The Birth of Jesus\; A Christmas Cantata" by Mary Dorn Lippert.  "The wonder of Christmas is not the miracle of birth\, but that God's love is so great\, he chose to become irrevocable united with his creation in order to redeem us."
X-ALT-DESC;FMTTYPE=text/html:Our Children&#39\;s Christmas Service this year is entitled &quot\;The Birth of Jesus\; A Christmas Cantata&quot\; by Mary Dorn Lippert.&nbsp\; &quot\;The wonder of Christmas is not the miracle of birth\, but that God&#39\;s love is so great\, he chose to become irrevocable united with his creation in order to redeem us.&quot\;
LOCATION:Zion Lutheran School 1023 East Capitol Drive Hartland\, WI 53029
UID:e.522.137616
SEQUENCE:3
DTSTAMP:20260424T115731Z
URL:https://business.hartland-wi.org/events/details/children-s-christmas-service-137616
END:VEVENT

END:VCALENDAR
