BEGIN:VCALENDAR
VERSION:2.0
PRODID:-//ChamberMaster//Event Calendar 2.0//EN
METHOD:PUBLISH
X-PUBLISHED-TTL:P3D
REFRESH-INTERVAL:P3D
CALSCALE:GREGORIAN
BEGIN:VEVENT
DTSTART:20120911T210000Z
DTEND:20121002T223000Z
X-MICROSOFT-CDO-ALLDAYEVENT:FALSE
SUMMARY:Child Clay Classes
DESCRIPTION:Children will enjoy the freedom of making their own clay project while learning coil\, slab\, and pinch techniques.  All the materials are non-toxic.
X-ALT-DESC;FMTTYPE=text/html:Children will enjoy the freedom of making their own clay project while learning coil\, slab\, and pinch techniques.&nbsp\; All the materials are non-toxic.&nbsp\; 
LOCATION:Lake Country Fine Arts School and Gallery 112 W. Capitol Dr. Hartland\, WI 53029
UID:e.522.132017
SEQUENCE:3
DTSTAMP:20260421T074915Z
URL:https://business.hartland-wi.org/events/details/child-clay-classes-09-11-2012-132017
END:VEVENT

END:VCALENDAR
