BEGIN:VCALENDAR
VERSION:2.0
PRODID:-//ChamberMaster//Event Calendar 2.0//EN
METHOD:PUBLISH
X-PUBLISHED-TTL:P3D
REFRESH-INTERVAL:P3D
CALSCALE:GREGORIAN
BEGIN:VEVENT
DTSTART:20180226T230000Z
DTEND:20180227T010000Z
X-MICROSOFT-CDO-ALLDAYEVENT:FALSE
SUMMARY:Changes in Bullying and Social Media Trends: Rethinking "Normal"
DESCRIPTION:Changes in Bullying and Social Media Trends\n\nRethinking "Normal"\n\n\n\nJoin Deanna Marincic\, MSW and Alissa Darin\, MA from the Gals Institute\, LLC and learn the current bullying trends of today's youth.  Gain resiliency building skills on how to talk with teens and set limits on digital exposure\, a quickly growing and changing phenomenon.\n\n\n\nThe Gails Institue helps girls navigate their way through friendship building and challenges\, while increasing confidence and leadership skills.\n\n\n\nRegistration is required by phoning:  888-863-5502 or contact Trish Golden at 262-434-1248\n\nRegistration/light sandwiches:  5 to 5:30\n\nPresentation:  5:30 to 7 p.m.
X-ALT-DESC;FMTTYPE=text/html:<div style="text-align: center\;"><strong>Changes in Bullying and Social Media Trends<br />\nRethinking &quot\;Normal&quot\;<br />\n<br />\nJoin Deanna Marincic\, MSW and Alissa Darin\, MA from the Gals Institute\, LLC and learn the current bullying trends of today&#39\;s youth.&nbsp\; Gain resiliency building skills on how to talk with teens and set limits on digital exposure\, a quickly growing and changing phenomenon.<br />\n<br />\nThe Gails Institue helps girls navigate their way through friendship building and challenges\, while increasing confidence and leadership skills.<br />\n<br />\nRegistration is required by phoning:&nbsp\; 888-863-5502 or contact Trish Golden at 262-434-1248<br />\nRegistration/light sandwiches:&nbsp\; 5 to 5:30<br />\nPresentation:&nbsp\; 5:30 to 7 p.m.</strong><br />\n&nbsp\;</div>\n
LOCATION:Aurora Medical Center Summit Gifford Hall 36500 Aurora Drive Summit\, WI
UID:e.522.137192
SEQUENCE:3
DTSTAMP:20260423T200344Z
URL:https://business.hartland-wi.org/events/details/changes-in-bullying-and-social-media-trends-rethinking-normal-137192
END:VEVENT

END:VCALENDAR
