BEGIN:VCALENDAR
VERSION:2.0
PRODID:-//ChamberMaster//Event Calendar 2.0//EN
METHOD:PUBLISH
X-PUBLISHED-TTL:P3D
REFRESH-INTERVAL:P3D
CALSCALE:GREGORIAN
BEGIN:VEVENT
DTSTART:20121212T170000Z
DTEND:20121212T180000Z
X-MICROSOFT-CDO-ALLDAYEVENT:FALSE
SUMMARY:Carols of Christmas holiday sing-a-long
DESCRIPTION:Hartland Choral Masters\, a non-profit community music organization led by artistic director\, Joseph Brachmann is offering "Carols of Christmas". This free holiday sing-a-long is open to all community singers and anyone looking to brighten their day with 1 hour of exquisite traditional carols\, choral arrangements and songs of the season. Our Savior's will host Mr. Brachmann and Choral Masters for 4 Wednesdays beginning November 28 and ending December 19. Mark your calendar and join us for 1 week or all 4!
X-ALT-DESC;FMTTYPE=text/html:<span style="font-size: 14px"><span style="font-family: comic sans ms">Hartland Choral Masters\, a non-profit community music organization led by artistic director\, Joseph Brachmann is offering <em>&quot\;Carols of Christmas&quot\;</em>. This free holiday sing-a-long is open to all community singers and anyone looking to brighten their day with 1 hour of exquisite traditional carols\, choral arrangements and songs of the season. Our Savior&#39\;s will host Mr. Brachmann and Choral Masters for 4 Wednesdays beginning November 28 and ending December 19. Mark your calendar and join us for 1 week or all 4!</span></span>
LOCATION:Our Savior's Lutheran Church W299 N5782 County Rd E\, Hartland just north of Arrowhead H.S. and Swallow Elementary
UID:e.522.132048
SEQUENCE:3
DTSTAMP:20260421T041743Z
URL:https://business.hartland-wi.org/events/details/carols-of-christmas-holiday-sing-a-long-12-12-2012-132048
END:VEVENT

END:VCALENDAR
