BEGIN:VCALENDAR
VERSION:2.0
PRODID:-//ChamberMaster//Event Calendar 2.0//EN
METHOD:PUBLISH
X-PUBLISHED-TTL:P3D
REFRESH-INTERVAL:P3D
CALSCALE:GREGORIAN
BEGIN:VEVENT
DTSTART:20131015T230000Z
DTEND:20131016T000000Z
X-MICROSOFT-CDO-ALLDAYEVENT:FALSE
SUMMARY:Caribbean Show at Lake Country Travel
DESCRIPTION:CARIBBEAN NIGHT\n\n\n\nPresented by Sandals & Beaches Resorts\n\n\n\n\n\n\n\nCARIBBEAN NIGHT\n\n\n\nSandals & Beaches Resorts presents Caribbean Night  a special event to introduce you to everything the Caribbean has to offer. This informative travel show will inform you off you options when planning your destination wedding\, honeymoon or vacation.\n\n\n\nThis event will be a fun and interactive experience with Sandals Representative Jordan Brown.\n\n\n\nWine & Hor d'oeuvres will be served - RSVP Today!
X-ALT-DESC;FMTTYPE=text/html:<br />\nCARIBBEAN NIGHT<br />\n<br />\nPresented by Sandals &amp\; Beaches Resorts<br />\n<br />\n<br />\n<br />\nCARIBBEAN NIGHT<br />\n<br />\nSandals &amp\; Beaches Resorts presents Caribbean Night &hellip\;a special event to introduce you to everything the Caribbean has to offer. This informative travel show will inform you off you options when planning your destination wedding\, honeymoon or vacation.<br />\n<br />\nThis event will be a fun and interactive experience with Sandals Representative Jordan Brown.<br />\n<br />\nWine &amp\; Hor d&rsquo\;oeuvres will be served - RSVP Today!<br />\n
LOCATION:Lake Country Travel 101 W Wisconsin Ave Pewaukee\, WI 53072
UID:e.522.132765
SEQUENCE:3
DTSTAMP:20260420T125911Z
URL:https://business.hartland-wi.org/events/details/caribbean-show-at-lake-country-travel-10-15-2013-132765
END:VEVENT

END:VCALENDAR
