BEGIN:VCALENDAR
VERSION:2.0
PRODID:-//ChamberMaster//Event Calendar 2.0//EN
METHOD:PUBLISH
X-PUBLISHED-TTL:P3D
REFRESH-INTERVAL:P3D
CALSCALE:GREGORIAN
BEGIN:VEVENT
DTSTART:20181018T130000Z
DTEND:20181018T140000Z
X-MICROSOFT-CDO-ALLDAYEVENT:FALSE
SUMMARY:Cafe University
DESCRIPTION:CAFE UNIVERSITY\n\nHartland Chamber of Commerce\n\nMonthly Morning Workshop\n\n \n\n\n\nJoin us on Thursdays once a month for a cup of coffee and a chance to expand your knowledge on a variety of subjects.  Each month will focus on a different topic. \n\n\n\nGuest speaker:     Krista Morrissey\n\n                               Choices Coaching + Consulting\, LLC\n\n \n\nThis Month: Choices Coaching + Consulting\, LLC\n\n\n\nThe Success of Your Business is Grounded in Your WHO\, WHY\, WHAT\n\n \n\nDescription:\n\nWhen you are clear on who you are and why you do what you do\, it becomes easy to envision the future\, to design your business plan\, to push through the tough times\, to focus during high times\, to stand for what you believe\, and to create a reputation.\n\n \n\nBusiness planning should not be painful.  When designed from WHO you are and WHY you do what you do\, your business plan has alignment and clarity.  It is forward focused.  It creates momentum.\n\n \n\nJoin me in removing the buzz words and creating or reviewing your business plan.  The success of your business is grounded in you!\n\n \n\n \n\n \n\nAll workshops are held at the following location unless otherwise noted:\n\nHartland Fire Department Community Room\n\n150 Lawn Street (rear building)\n\nHartland\, WI  53029\n\n \n\nRegistration:   $10 for chamber members/ $15 for non-members\n\nRegister online or email chamberdirector@hartland-wi.org.
X-ALT-DESC;FMTTYPE=text/html:<p style="text-align: center\;"><br />\n<br />\n<span style="font-family: comic sans ms\;"><span style="font-size: 14px\;"><strong><span style="color: rgb(0\, 0\, 205)\;"><span style="font-size: 16px\;">CAFE UNIVERSITY</span></span><br />\n<span style="font-size: 12px\;">Hartland Chamber of Commerce<br />\nMonthly Morning Workshop</span></strong></span></span><br />\n&nbsp\;</p>\n\n<p><br />\nJoin us&nbsp\;on Thursdays&nbsp\;once a&nbsp\;month for&nbsp\;a cup of coffee and&nbsp\;a chance to expand your knowledge on a variety of subjects.&nbsp\; Each month will focus on a different topic.&nbsp\;<br />\n<br />\n<strong>Guest speaker:&nbsp\; &nbsp\; &nbsp\;<span style="color:#0000FF\;">Krista Morrissey</span></strong><br />\n<span style="color:#0000FF\;">&nbsp\; &nbsp\; &nbsp\; &nbsp\; &nbsp\; &nbsp\; &nbsp\; &nbsp\; &nbsp\; &nbsp\; &nbsp\; &nbsp\; &nbsp\; &nbsp\; &nbsp\; <span style="font-size:12px\;">&nbsp\;Choices Coaching + Consulting\, LLC</span></span><br />\n&nbsp\;</p>\n\n<p><strong>This Month: <span style="color:#0000FF\;">Choices Coaching + Consulting\, LLC</span></strong><br />\n<br />\n<span style="color:#0000FF\;"><strong><em>The Success of Your Business is Grounded in Your WHO\, WHY\, WHAT</em></strong></span><br />\n&nbsp\;<br />\n<span style="color:#0000FF\;"><strong>Description:</strong><br />\nWhen you are clear on who you are and why you do what you do\, it becomes easy to envision the future\, to design your business plan\, to push through the tough times\, to focus during high times\, to stand for what you believe\, and to create a reputation.<br />\n&nbsp\;<br />\nBusiness planning should not be painful.&nbsp\; When designed from WHO you are and WHY you do what you do\, your business plan has alignment and clarity.&nbsp\; It is forward focused.&nbsp\; It creates momentum.<br />\n&nbsp\;<br />\nJoin me in removing the buzz words and creating or reviewing your business plan.&nbsp\; The success of your business is grounded in you!</span><br />\n&nbsp\;<br />\n&nbsp\;</p>\n\n<p>&nbsp\;</p>\n\n<p>All workshops are held at the following location unless otherwise noted:</p>\n\n<p>Hartland Fire Department Community Room<br />\n150 Lawn Street (rear building)<br />\nHartland\, WI&nbsp\; 53029<br />\n&nbsp\;</p>\n\n<p>Registration:&nbsp\;&nbsp\; $10 for chamber members/ $15 for non-members<br />\nRegister online or email chamberdirector@hartland-wi.org.</p>\n\n<p><br />\n&nbsp\;</p>\n
LOCATION:Hartland Fire Department Community Room 150 Lawn Street (rear buliding) Hartland\, WI 53029
UID:e.522.137262
SEQUENCE:3
DTSTAMP:20260424T085336Z
URL:https://business.hartland-wi.org/events/details/cafe-university-137262
END:VEVENT

END:VCALENDAR
