BEGIN:VCALENDAR
VERSION:2.0
PRODID:-//ChamberMaster//Event Calendar 2.0//EN
METHOD:PUBLISH
X-PUBLISHED-TTL:P3D
REFRESH-INTERVAL:P3D
CALSCALE:GREGORIAN
BEGIN:VEVENT
DTSTART:20180920T130000Z
DTEND:20180920T140000Z
X-MICROSOFT-CDO-ALLDAYEVENT:FALSE
SUMMARY:Cafe University
DESCRIPTION:CAFE UNIVERSITY\n\nHartland Chamber of Commerce\n\nMonthly Morning Workshop\n\n \n\n\n\nJoin us on Thursdays once a month for a cup of coffee and a chance to expand your knowledge on a variety of subjects.  Each month will focus on a different topic. \n\n\n\nGuest speaker:     Regi George\n\n                               'Nalytix\, LLC\n\n \n\nThis Month:  Connecting and Personalizing the Customer Experience\n\n                      for the New Age of Consumerism\n\nWe will shed light on the impact technology has had on the current business landscape over the last two decades and we will discuss how online businesses leverage technology and data to connect with the customer.  We will then step through new technologies that are being developed and how they will change future of business even further.  Finally\, we will demonstrate how local businesses can connect with local customers in real-time and help us build customer loyalty to the local community.\n\n \n\n \n\nAll workshops are held at the following location unless otherwise noted:\n\nHartland Fire Department Community Room\n\n150 Lawn Street (rear building)\n\nHartland\, WI  53029\n\n \n\nRegistration:   $10 for chamber members/ $15 for non-members\n\nRegister online or email chamberdirector@hartland-wi.org.
X-ALT-DESC;FMTTYPE=text/html:<p style="text-align: center\;"><br />\n<br />\n<span style="font-family: comic sans ms\;"><span style="font-size: 14px\;"><strong><span style="color: rgb(0\, 0\, 205)\;"><span style="font-size: 16px\;">CAFE UNIVERSITY</span></span><br />\n<span style="font-size: 12px\;">Hartland Chamber of Commerce<br />\nMonthly Morning Workshop</span></strong></span></span><br />\n&nbsp\;</p>\n\n<p><br />\nJoin us&nbsp\;on Thursdays&nbsp\;once a&nbsp\;month for&nbsp\;a cup of coffee and&nbsp\;a chance to expand your knowledge on a variety of subjects.&nbsp\; Each month will focus on a different topic.&nbsp\;<br />\n<br />\n<strong>Guest speaker:&nbsp\; &nbsp\; &nbsp\;Regi George</strong><br />\n&nbsp\; &nbsp\; &nbsp\; &nbsp\; &nbsp\; &nbsp\; &nbsp\; &nbsp\; &nbsp\; &nbsp\; &nbsp\; &nbsp\; &nbsp\; &nbsp\; &nbsp\; <span style="font-size:12px\;">&nbsp\;&#39\;Nalytix\, LLC</span><br />\n&nbsp\;</p>\n\n<p><strong>This Month:&nbsp\; <font color="#ff0000" face="calibri"><span style="font-size: 16px\;"><i>Connecting and Personalizing the Customer Experience<br />\n&nbsp\; &nbsp\; &nbsp\; &nbsp\; &nbsp\; &nbsp\; &nbsp\; &nbsp\; &nbsp\; &nbsp\; &nbsp\;&nbsp\;for the New Age of Consumerism</i></span></font></strong></p>\n\n<h4><span style="font-size:12px\;"><font face="calibri">We will shed light on the impact technology has had on the current business landscape over the last two decades and we will discuss how online businesses leverage technology and data to connect with the customer.&nbsp\; We will then step through new technologies that are being developed and how they will change future of business even further.&nbsp\; Finally\, we will demonstrate how local businesses can connect with local customers in real-time and help us build customer loyalty to the local community.</font></span><br />\n&nbsp\;</h4>\n\n<h4>&nbsp\;</h4>\n\n<h4>All workshops are held at the following location unless otherwise noted:</h4>\n\n<h4>Hartland Fire Department Community Room<br />\n150 Lawn Street (rear building)<br />\nHartland\, WI&nbsp\; 53029<br />\n&nbsp\;</h4>\n\n<h4>Registration:&nbsp\;&nbsp\; $10 for chamber members/ $15 for non-members<br />\nRegister online or email chamberdirector@hartland-wi.org.</h4>\n\n<h4><br />\n&nbsp\;</h4>\n
LOCATION:Hartland Fire Department Community Room 150 Lawn Street (rear buliding) Hartland\, WI 53029
UID:e.522.137261
SEQUENCE:3
DTSTAMP:20260424T072810Z
URL:https://business.hartland-wi.org/events/details/cafe-university-137261
END:VEVENT

END:VCALENDAR
