BEGIN:VCALENDAR
VERSION:2.0
PRODID:-//ChamberMaster//Event Calendar 2.0//EN
METHOD:PUBLISH
X-PUBLISHED-TTL:P3D
REFRESH-INTERVAL:P3D
CALSCALE:GREGORIAN
BEGIN:VEVENT
DTSTART:20180816T130000Z
DTEND:20180816T140000Z
X-MICROSOFT-CDO-ALLDAYEVENT:FALSE
SUMMARY:Cafe University
DESCRIPTION:CAFE UNIVERSITY\n\nHartland Chamber of Commerce\n\nMonthly Morning Workshop\n\n \n\n\n\nJoin us on Thursdays once a month for a cup of coffee and a chance to expand your knowledge on a variety of subjects.  Each month will focus on a different topic. \n\n\n\nGuest speaker:     John Becwar\, CSA\n\n                               Oasis Senior Advisors\n\n \n\nThis Month:  Options for Senior Living\n\nThis is a presentation developed for seniors and adult caregivers that are considering living options outside of the home for themselves or a loved one\, from independent living retirement communities to various forms of assisted living.  If you are a senior or a caregiver\, living at home may no longer be the safest or healthiest option  for you or a loved one.  The presentation will conclude with a brief overview of the free service provided through Oasis Senior Advisors and a discussion about when is the right time to consider assisted living options.  This is an interactive presentation\, so questions are encouraged!\n\n \n\nAll workshops are held at the following location unless otherwise noted:\n\nHartland Fire Department Community Room\n\n150 Lawn Street (rear building)\n\nHartland\, WI  53029\n\n \n\nRegistration:   $10 for chamber members/ $15 for non-members\n\nRegister online or email chamberdirector@hartland-wi.org.
X-ALT-DESC;FMTTYPE=text/html:<p style="text-align: center\;"><br />\n<br />\n<span style="font-family: comic sans ms\;"><span style="font-size: 14px\;"><strong><span style="color: rgb(0\, 0\, 205)\;"><span style="font-size: 16px\;">CAFE UNIVERSITY</span></span><br />\n<span style="font-size: 12px\;">Hartland Chamber of Commerce<br />\nMonthly Morning Workshop</span></strong></span></span><br />\n&nbsp\;</p>\n\n<p><br />\nJoin us&nbsp\;on Thursdays&nbsp\;once a&nbsp\;month for&nbsp\;a cup of coffee and&nbsp\;a chance to expand your knowledge on a variety of subjects.&nbsp\; Each month will focus on a different topic.&nbsp\;<br />\n<br />\n<strong>Guest speaker:&nbsp\; &nbsp\; &nbsp\;John Becwar\, CSA</strong><br />\n&nbsp\; &nbsp\; &nbsp\; &nbsp\; &nbsp\; &nbsp\; &nbsp\; &nbsp\; &nbsp\; &nbsp\; &nbsp\; &nbsp\; &nbsp\; &nbsp\;<span style="font-size:12px\;"> &nbsp\; &nbsp\;Oasis Senior Advisors</span><br />\n&nbsp\;</p>\n\n<p><strong>This Month:&nbsp\; <font color="#ff0000" face="calibri"><span style="font-size: 16px\;"><i>Options for Senior Living</i></span></font></strong><br />\n<span style="font-size: 11px\;">This is a&nbsp\;presentation developed for seniors and adult caregivers that are considering living options outside of the home for themselves or a loved one\, from independent living retirement communities to various forms of assisted living.&nbsp\; If you are a senior or a caregiver\, living at home may no longer be the safest or healthiest option&nbsp\; for you or a loved one.&nbsp\; The presentation will conclude with a brief overview of the free service provided through Oasis Senior Advisors and a discussion about when is the right time to consider assisted living options.&nbsp\; This is an interactive presentation\, so questions are encouraged!</span></p>\n\n<p>&nbsp\;</p>\n\n<p>All workshops are held at the following location unless otherwise noted:</p>\n\n<p>Hartland Fire Department Community Room<br />\n150 Lawn Street (rear building)<br />\nHartland\, WI&nbsp\; 53029<br />\n&nbsp\;</p>\n\n<p>Registration:&nbsp\;&nbsp\; $10 for chamber members/ $15 for non-members<br />\nRegister online or email chamberdirector@hartland-wi.org.</p>\n\n<p><br />\n&nbsp\;</p>\n
LOCATION:Hartland Fire Department Community Room 150 Lawn Street (rear buliding) Hartland\, WI 53029
UID:e.522.137260
SEQUENCE:3
DTSTAMP:20260424T054718Z
URL:https://business.hartland-wi.org/events/details/cafe-university-137260
END:VEVENT

END:VCALENDAR
