BEGIN:VCALENDAR
VERSION:2.0
PRODID:-//ChamberMaster//Event Calendar 2.0//EN
METHOD:PUBLISH
X-PUBLISHED-TTL:P3D
REFRESH-INTERVAL:P3D
CALSCALE:GREGORIAN
BEGIN:VEVENT
DTSTART:20180719T130000Z
DTEND:20180719T140000Z
X-MICROSOFT-CDO-ALLDAYEVENT:FALSE
SUMMARY:Cafe University
DESCRIPTION:CAFE UNIVERSITY\n\nHartland Chamber of Commerce\n\nMonthly Morning Workshop\n\n \n\n\n\nJoin us on Thursdays once a month for a cup of coffee and a chance to expand your knowledge on a variety of subjects.  Each month will focus on a different topic. \n\n\n\nGuest speaker:     Mike Michelson\n\n                               Legit Click Media\n\n \n\nThis Month:  Digital Marketing Strategies\, Where to Begin\n\nWe will focus on two core areas:  utilizing non-paid media such as search engine optimization\, content creation\, social media\, email marketing\, and local map/directory services to drive new business.  More advanced paid media strategies to drive conversions such as pay-per-click\, display re-marketing\, and social media advertising will be the second component of the presentation.\n\n \n\nAll workshops are held at the following location unless otherwise noted:\n\nHartland Fire Department Community Room\n\n150 Lawn Street (rear building)\n\nHartland\, WI  53029\n\n \n\nRegistration:   $10 for chamber members/ $15 for non-members\n\nRegister online or email chamberdirector@hartland-wi.org.
X-ALT-DESC;FMTTYPE=text/html:<p style="text-align: center\;"><br />\n<br />\n<span style="font-family: comic sans ms\;"><span style="font-size: 14px\;"><strong><span style="color: rgb(0\, 0\, 205)\;"><span style="font-size: 16px\;">CAFE UNIVERSITY</span></span><br />\n<span style="font-size: 12px\;">Hartland Chamber of Commerce<br />\nMonthly Morning Workshop</span></strong></span></span><br />\n&nbsp\;</p>\n\n<p><br />\nJoin us&nbsp\;on Thursdays&nbsp\;once a&nbsp\;month for&nbsp\;a cup of coffee and&nbsp\;a chance to expand your knowledge on a variety of subjects.&nbsp\; Each month will focus on a different topic.&nbsp\;<br />\n<br />\n<strong>Guest speaker:&nbsp\; &nbsp\; &nbsp\;Mike Michelson</strong><br />\n&nbsp\; &nbsp\; &nbsp\; &nbsp\; &nbsp\; &nbsp\; &nbsp\; &nbsp\; &nbsp\; &nbsp\; &nbsp\; &nbsp\; &nbsp\; &nbsp\; &nbsp\; &nbsp\;<span style="font-size:12px\;">Legit Click Media</span><br />\n&nbsp\;</p>\n\n<p><strong>This Month:&nbsp\; <font color="#ff0000" face="calibri"><span style="font-size: 16px\;"><i>Digital Marketing Strategies\, Where to Begin</i></span></font></strong><br />\n<span style="font-size: 11px\;">We will focus on two core areas:&nbsp\; utilizing non-paid media such as search engine optimization\, content creation\, social media\, email marketing\, and local map/directory services to drive new business.&nbsp\; More advanced paid media strategies to drive conversions such as pay-per-click\, display re-marketing\, and social media advertising will be the second component of the presentation.</span></p>\n\n<p>&nbsp\;</p>\n\n<p>All workshops are held at the following location unless otherwise noted:</p>\n\n<p>Hartland Fire Department Community Room<br />\n150 Lawn Street (rear building)<br />\nHartland\, WI&nbsp\; 53029<br />\n&nbsp\;</p>\n\n<p>Registration:&nbsp\;&nbsp\; $10 for chamber members/ $15 for non-members<br />\nRegister online or email chamberdirector@hartland-wi.org.</p>\n\n<p><br />\n&nbsp\;</p>\n
LOCATION:Hartland Fire Department Community Room 150 Lawn Street (rear buliding) Hartland\, WI 53029
UID:e.522.137259
SEQUENCE:3
DTSTAMP:20260424T040646Z
URL:https://business.hartland-wi.org/events/details/cafe-university-137259
END:VEVENT

END:VCALENDAR
