BEGIN:VCALENDAR
VERSION:2.0
PRODID:-//ChamberMaster//Event Calendar 2.0//EN
METHOD:PUBLISH
X-PUBLISHED-TTL:P3D
REFRESH-INTERVAL:P3D
CALSCALE:GREGORIAN
BEGIN:VEVENT
DTSTART:20180517T130000Z
DTEND:20180517T140000Z
X-MICROSOFT-CDO-ALLDAYEVENT:FALSE
SUMMARY:Cafe University
DESCRIPTION:CAFE UNIVERSITY\n\nHartland Chamber of Commerce\n\nMonthly Morning Workshop\n\n \n\n\n\nJoin us on Thursdays once a month for a cup of coffee and a chance to expand your knowledge on a variety of subjects.  Each month will focus on a different topic. \n\n\n\nGuest speaker:     Matt Gerber\n\n                               Matt Gerber Designs\, LLC\n\n \n\nThis Month:  The Well-Designed Website\n\nA business' website is a critical living-breathing piece of any marketing strategy.  In this presentation we'll talk through what makes a successful\, well-designed website and how that differs from simply having a visually striking one.  We'll talk through the importance of up-to-date content\, clear navigation\, lead generation\, calls to action and SEO.\n\n \n\nAll workshops are held at the following location unless otherwise noted:\n\nHartland Fire Department Community Room\n\n150 Lawn Street (rear building)\n\nHartland\, WI  53029\n\n \n\nRegistration:   $10 for chamber members/ $15 for non-members\n\nRegister online or email chamberdirector@hartland-wi.org.
X-ALT-DESC;FMTTYPE=text/html:<p style="text-align: center\;"><br />\n<br />\n<span style="font-family: comic sans ms\;"><span style="font-size: 14px\;"><strong><span style="color: rgb(0\, 0\, 205)\;"><span style="font-size: 16px\;">CAFE UNIVERSITY</span></span><br />\n<span style="font-size: 12px\;">Hartland Chamber of Commerce<br />\nMonthly Morning Workshop</span></strong></span></span><br />\n&nbsp\;</p>\n\n<p><br />\nJoin us&nbsp\;on Thursdays&nbsp\;once a&nbsp\;month for&nbsp\;a cup of coffee and&nbsp\;a chance to expand your knowledge on a variety of subjects.&nbsp\; Each month will focus on a different topic.&nbsp\;<br />\n<br />\n<strong>Guest speaker:&nbsp\; &nbsp\; &nbsp\;Matt Gerber</strong><br />\n&nbsp\; &nbsp\; &nbsp\; &nbsp\; &nbsp\; &nbsp\; &nbsp\; &nbsp\; &nbsp\; &nbsp\; &nbsp\; &nbsp\; &nbsp\; &nbsp\; &nbsp\; &nbsp\;<span style="font-size:12px\;">Matt Gerber Designs\, LLC</span><br />\n&nbsp\;</p>\n\n<p><strong>This Month:&nbsp\; <font color="#ff0000" face="calibri"><span style="font-size: 16px\;"><i>The Well-Designed Website</i></span></font></strong><br />\n<span style="font-size: 11px\;">A business&#39\; website is a critical living-breathing piece of any marketing strategy.&nbsp\; In this presentation we&#39\;ll talk through what makes a successful\, well-designed website and how that differs from simply having a visually striking one.&nbsp\; We&#39\;ll talk through the importance of up-to-date content\, clear navigation\, lead generation\, calls to action and SEO.</span></p>\n\n<p>&nbsp\;</p>\n\n<p>All workshops are held at the following location unless otherwise noted:</p>\n\n<p>Hartland Fire Department Community Room<br />\n150 Lawn Street (rear building)<br />\nHartland\, WI&nbsp\; 53029<br />\n&nbsp\;</p>\n\n<p>Registration:&nbsp\;&nbsp\; $10 for chamber members/ $15 for non-members<br />\nRegister online or email chamberdirector@hartland-wi.org.</p>\n\n<p><br />\n&nbsp\;</p>\n
LOCATION:Hartland Fire Department Community Room 150 Lawn Street (rear buliding) Hartland\, WI 53029
UID:e.522.137255
SEQUENCE:3
DTSTAMP:20260424T024425Z
URL:https://business.hartland-wi.org/events/details/cafe-university-137255
END:VEVENT

END:VCALENDAR
