BEGIN:VCALENDAR
VERSION:2.0
PRODID:-//ChamberMaster//Event Calendar 2.0//EN
METHOD:PUBLISH
X-PUBLISHED-TTL:P3D
REFRESH-INTERVAL:P3D
CALSCALE:GREGORIAN
BEGIN:VEVENT
DTSTART:20190516T130000Z
DTEND:20190516T140000Z
X-MICROSOFT-CDO-ALLDAYEVENT:FALSE
SUMMARY:Cafe University
DESCRIPTION:CAFE UNIVERSITY\n\nHartland Chamber of Commerce\n\nMonthly Morning Workshop\n\n \n\n\n\nJoin us on Thursday mornings for a cup of coffee and a chance to expand your knowledge on a variety of subjects.  Each session will focus on a different topic. \n\n \n\nGuest speaker:   Rick Conner\, Hometown Pharmacy\n\n \n\nThis Month:   Learn about essential nutrients needed for drug-induced depletion\, nutritional supplements alternatives for disease states and CBD Oil.\n\n \n\nAll workshops are held at the following location unless otherwise noted:\n\nHartland Fire Department Community Room\n\n150 Lawn Street (rear building)\n\nHartland\, WI  53029\n\n \n\nRegistration:   $10 for chamber members/ $15 for non-members\n\nRegister online or email chamberdirector@hartland-wi.org.
X-ALT-DESC;FMTTYPE=text/html:<p style="text-align: center\;"><br />\n<br />\n<span style="font-family: comic sans ms\;"><span style="font-size: 14px\;"><strong><span style="color: rgb(0\, 0\, 205)\;"><span style="font-size: 16px\;">CAFE UNIVERSITY</span></span><br />\n<span style="font-size: 12px\;">Hartland Chamber of Commerce<br />\nMonthly Morning Workshop</span></strong></span></span><br />\n&nbsp\;</p>\n\n<p><br />\nJoin us&nbsp\;on Thursday mornings for&nbsp\;a cup of coffee and&nbsp\;a chance to expand your knowledge on a variety of subjects.&nbsp\; Each session will focus on a different topic.&nbsp\;<br />\n&nbsp\;</p>\n\n<p style="font-family: Roboto\, sans-serif\; font-size: 12px\;"><strong>Guest speaker:&nbsp\; &nbsp\;<span style="color: rgb(0\, 0\, 255)\;"><em>Rick Conner\, Hometown Pharmacy</em></span></strong><br />\n&nbsp\;</p>\n\n<p style="font-family: Roboto\, sans-serif\; font-size: 12px\;"><strong>This Month:&nbsp\; &nbsp\;<font color="#0000ff"><i>Learn about essential nutrients needed for drug-induced depletion\, nutritional supplements alternatives for disease states and CBD Oil.</i></font></strong></p>\n\n<p>&nbsp\;</p>\n\n<p>All workshops are held at the following location unless otherwise noted:</p>\n\n<p>Hartland Fire Department Community Room<br />\n150 Lawn Street (rear building)<br />\nHartland\, WI&nbsp\; 53029<br />\n&nbsp\;</p>\n\n<p>Registration:&nbsp\;&nbsp\; $10 for chamber members/ $15 for non-members<br />\nRegister online or email chamberdirector@hartland-wi.org.</p>\n\n<p><br />\n&nbsp\;</p>\n
LOCATION:Hartland Fire Department Community Room 150 Lawn Street (rear buliding) Hartland\, WI 53029
UID:e.522.137553
SEQUENCE:3
DTSTAMP:20260424T212812Z
URL:https://business.hartland-wi.org/events/details/cafe-university-05-16-2019-137553
END:VEVENT

END:VCALENDAR
