BEGIN:VCALENDAR
VERSION:2.0
PRODID:-//ChamberMaster//Event Calendar 2.0//EN
METHOD:PUBLISH
X-PUBLISHED-TTL:P3D
REFRESH-INTERVAL:P3D
CALSCALE:GREGORIAN
BEGIN:VEVENT
DTSTART:20190221T140000Z
DTEND:20190221T150000Z
X-MICROSOFT-CDO-ALLDAYEVENT:FALSE
SUMMARY:Cafe University
DESCRIPTION:CAFE UNIVERSITY\n\nHartland Chamber of Commerce\n\nMonthly Morning Workshop\n\n \n\n\n\nJoin us on Thursday mornings for a cup of coffee and a chance to expand your knowledge on a variety of subjects.  Each session will focus on a different topic. \n\n\n\nGuest speaker:   Kathy Robinson\n\n \n\nThis Month: Organized Images\, LLC\n\n\n\n5 Things To Do NOW To Give Your Photos the Love They Deserve!\n\n \n\nDoes this sound familiar????\n\n \n\n- "I forget to do anything with our digital photos. And when I do remember\, they are in so many different places!"\n\n- "I wish I could access my printed photos on my phone the way I can for my digital ones."\n\n- "I'm overwhelmed by all my photos! And now I've had even more passed down to me."\n\n \n\nIf that describes you\, please join us at this Cafe University where Kathy Robinson\, a Professional Photo Organizer\, will share 5 best practices to do now that will help keep your family or business photo legacy safe for future generations!\n\n \n\nBonus!!!  \n\n \n\nAttendees are welcome to bring up to 100 loose 4x6 photos or up to 10 larger photos for COMPLIMENTARY scanning.  Scanned photos will be delivered at a later date via an online link.  \n\n \n\nOriginal photos will be available for pickup at the Chamber office after March 4th.  Please call the Chamber office to arrange pick up.\n\n \n\n \n\nAll workshops are held at the following location unless otherwise noted:\n\nHartland Fire Department Community Room\n\n150 Lawn Street (rear building)\n\nHartland\, WI  53029\n\n \n\nRegistration:   $10 for chamber members/ $15 for non-members\n\nRegister online or email chamberdirector@hartland-wi.org.
X-ALT-DESC;FMTTYPE=text/html:<p style="text-align: center\;"><br />\n<br />\n<span style="font-family: comic sans ms\;"><span style="font-size: 14px\;"><strong><span style="color: rgb(0\, 0\, 205)\;"><span style="font-size: 16px\;">CAFE UNIVERSITY</span></span><br />\n<span style="font-size: 12px\;">Hartland Chamber of Commerce<br />\nMonthly Morning Workshop</span></strong></span></span><br />\n&nbsp\;</p>\n\n<p><br />\nJoin us&nbsp\;on Thursday&nbsp\;mornings for&nbsp\;a cup of coffee and&nbsp\;a chance to expand your knowledge on a variety of subjects.&nbsp\; Each session will focus on a different topic.&nbsp\;<br />\n<br />\n<strong>Guest speaker:&nbsp\; &nbsp\;<em><span style="color:#0000FF\;">Kathy Robinson</span></em></strong><br />\n&nbsp\;</p>\n\n<p><strong>This Month: <span style="font-size:14px\;"><em><span style="color:#0000FF\;">Organized Images\, LLC</span></em></span></strong><br />\n<br />\n<span style="color:#0000CD\;"><span style="font-size:14px\;"><strong><span style="font-family:tahoma\,sans-serif\;">5 Things To Do NOW To Give Your Photos the Love They Deserve!</span></strong><br />\n&nbsp\;<br />\n<span style="font-family:tahoma\,sans-serif\;">Does this sound familiar????</span><br />\n&nbsp\;<br />\n-&nbsp\;</span></span><span style="color:#0000CD\;"><span style="font-size:14px\;"><span style="font-family:tahoma\,sans-serif\;">&quot\;I forget to do anything with our digital photos. And when I do remember\, they are in so many&nbsp\;</span></span></span><span style="color:#0000CD\;"><span style="font-size:14px\;"><span style="font-family:tahoma\,sans-serif\;">different places!&quot\;</span></span></span><br />\n-&nbsp\;<span style="color: rgb(0\, 0\, 205)\; font-size: 14px\; font-family: tahoma\, sans-serif\;">&quot\;I wish I could access my printed photos on my phone the way I can for my digital ones.&quot\;</span><br />\n<span style="color:#0000CD\;"><span style="font-size:14px\;"><span style="font-family:tahoma\,sans-serif\;">- &quot\;I&#39\;m overwhelmed by all my photos! And now I&#39\;ve had even more passed down to me.&quot\;</span><br />\n&nbsp\;<br />\n<span style="font-family:tahoma\,sans-serif\;">If that describes <strong><em>you</em></strong>\, please join us at this Cafe University where Kathy Robinson\, a Professional Photo Organizer\, will share 5 best practices to do now that will help keep your family or business photo legacy safe for future generations!</span><br />\n&nbsp\;<br />\n<strong><em><span style="font-family:tahoma\,sans-serif\;">Bonus!!!&nbsp\; </span></em></strong><br />\n&nbsp\;<br />\n<span style="font-family:tahoma\,sans-serif\;">Attendees are welcome to bring up to 100 loose 4x6 photos or up to 10 larger photos for <strong>COMPLIMENTARY</strong> scanning.&nbsp\; <u><em>Scanned photos will be delivered at a later date via an online link.</em> &nbsp\;</u></span><br />\n&nbsp\;<br />\n<span style="font-family:tahoma\,sans-serif\;">Original photos will be available for pickup at the Chamber office after March 4th.&nbsp\; Please call the Chamber office to arrange pick up.</span></span></span><br />\n&nbsp\;<br />\n&nbsp\;</p>\n\n<p>All workshops are held at the following location unless otherwise noted:</p>\n\n<p>Hartland Fire Department Community Room<br />\n150 Lawn Street (rear building)<br />\nHartland\, WI&nbsp\; 53029<br />\n&nbsp\;</p>\n\n<p>Registration:&nbsp\;&nbsp\; $10 for chamber members/ $15 for non-members<br />\nRegister online or email chamberdirector@hartland-wi.org.</p>\n\n<p><br />\n&nbsp\;</p>\n
LOCATION:Hartland Fire Department Community Room 150 Lawn Street (rear buliding) Hartland\, WI 53029
UID:e.522.137550
SEQUENCE:3
DTSTAMP:20260424T155328Z
URL:https://business.hartland-wi.org/events/details/cafe-university-02-21-2019-137550
END:VEVENT

END:VCALENDAR
