BEGIN:VCALENDAR
VERSION:2.0
PRODID:-//ChamberMaster//Event Calendar 2.0//EN
METHOD:PUBLISH
X-PUBLISHED-TTL:P3D
REFRESH-INTERVAL:P3D
CALSCALE:GREGORIAN
BEGIN:VEVENT
DTSTART:20190126T163000Z
DTEND:20190126T190000Z
X-MICROSOFT-CDO-ALLDAYEVENT:FALSE
SUMMARY:Burn 4 Wishes and Maggie’s Angels
DESCRIPTION:Burn Boot Camp has partnered with Maggie's Angels to grant a child his/her wish. \n\nLast year\, the Milwaukee area locations raised enough to grant Eli his wish! This year we are teaming up with all of the Greater Milwaukee Burn locations to grant 2 children their wishes. \n\n\n\nSAVE THE DATE: Jan 26!\n\n\n\nWe will have coed\, open to the public camps 9am as well as a family camp at 10am. Afterwards\, you can bid on amazing auction items or pay to watch your trainers work! So Tag your friends and put the event on your calendar! \n\n\n\nIf you are vendor and want to donate your goods or services to our silent auction\, please email us at lakecountry@burnbootcamp.com for more information.
X-ALT-DESC;FMTTYPE=text/html:<span style="color:rgb(29\, 33\, 41)\; font-family:helvetica\,arial\,sans-serif\; font-size:14px">Burn Boot Camp has partnered with Maggie&#39\;s Angels to grant a child his/her wish. </span><br />\n<span style="color:rgb(29\, 33\, 41)\; font-family:helvetica\,arial\,sans-serif\; font-size:14px">Last year\, the Milwaukee area locations raised enough to grant Eli his wish! This year we are teaming up with all of the Greater Milwaukee Burn locations to grant 2 children their wishes. </span><br />\n<br />\n<span style="color:rgb(29\, 33\, 41)\; font-family:helvetica\,arial\,sans-serif\; font-size:14px">SAVE THE DATE: Jan 26!</span><br />\n<br />\n<span style="color:rgb(29\, 33\, 41)\; font-family:helvetica\,arial\,sans-serif\; font-size:14px">We will have coed\, open to the public camps 9am as well as a family camp at 10am. Afterwards\, you can bid on amazing auction items or pay to watch your trainers work! So Tag your friends and put the event on your calendar! </span><br />\n<br />\n<span style="color:rgb(29\, 33\, 41)\; font-family:helvetica\,arial\,sans-serif\; font-size:14px">If you are vendor and want to donate your goods or services to our silent auction\, please email us at lakecountry@burnbootcamp.com for more information.</span>
LOCATION:Burn Boot Camp - Lake Country W248 N5250 Executive Drive Sussex\, WI 53089
UID:e.522.137654
SEQUENCE:3
DTSTAMP:20260424T135305Z
URL:https://business.hartland-wi.org/events/details/burn-4-wishes-and-maggie-s-angels-137654
END:VEVENT

END:VCALENDAR
