BEGIN:VCALENDAR
VERSION:2.0
PRODID:-//ChamberMaster//Event Calendar 2.0//EN
METHOD:PUBLISH
X-PUBLISHED-TTL:P3D
REFRESH-INTERVAL:P3D
CALSCALE:GREGORIAN
BEGIN:VEVENT
DTSTART:20180618T160000Z
DTEND:20180622T180000Z
X-MICROSOFT-CDO-ALLDAYEVENT:FALSE
SUMMARY:Bring Yoga to your business
DESCRIPTION:Lake Country Racquet & Athletic Club is offering a FREE 45 minute Yoga class at your business!  Businesses will need to provide a small indoor/outdoor space.  \n\nClasses will be scheduled over the lunch hour (11am - 1pm).  The business must pre-register.  \n\nThe number of classes is limited.  To register\, please contact Ann Glor\, Group Fitness Director at glora@lcclub.com.
X-ALT-DESC;FMTTYPE=text/html:Lake Country Racquet &amp\; Athletic Club is offering a FREE 45 minute Yoga class at your business!&nbsp\; Businesses will need to provide a small indoor/outdoor space.&nbsp\;&nbsp\;<br />\nClasses will be scheduled over the lunch hour (11am - 1pm).&nbsp\; The business must pre-register.&nbsp\;&nbsp\;<br />\nThe number of classes is limited.&nbsp\; To register\, please contact Ann Glor\, Group Fitness Director at glora@lcclub.com.
LOCATION:
UID:e.522.137473
SEQUENCE:3
DTSTAMP:20260424T150148Z
URL:https://business.hartland-wi.org/events/details/bring-yoga-to-your-business-137473
END:VEVENT

END:VCALENDAR
