BEGIN:VCALENDAR
VERSION:2.0
PRODID:-//ChamberMaster//Event Calendar 2.0//EN
METHOD:PUBLISH
X-PUBLISHED-TTL:P3D
REFRESH-INTERVAL:P3D
CALSCALE:GREGORIAN
BEGIN:VEVENT
DTSTART:20190919T143000Z
DTEND:20190919T160000Z
X-MICROSOFT-CDO-ALLDAYEVENT:FALSE
SUMMARY:Boost Your Brain & Memory Fall 2019
DESCRIPTION:Boost Your brain & Memory Fall 2019\n\nA 7 Week Workshop\n\n\n\nA Brain Fitness Program offering a whole person approach to helping individuals learn to live healthier\, remember things better\, pay closer attention and be more organized.\n\n\n\nPromotes\n\nPhysical Activity\n\nEmotional Health\n\nIntellectual Activity\n\nNutrition\n\nSpirituality\n\nSocial Engagement\n\n\n\nAll play a role in Brain Health\n\nReigsitration is required by phoning:  262-434-1248\n\n\n\nThursdays\,\n\nSeptember 19\, 26\n\nOctober 3\, 10\, 17\, 24\, 31\n\nGifford Room
X-ALT-DESC;FMTTYPE=text/html:<div style="text-align: center\;"><strong>Boost Your brain &amp\; Memory Fall 2019<br />\nA 7 Week Workshop<br />\n<br />\nA Brain Fitness Program offering a whole person approach to helping individuals learn to live healthier\, remember things better\, pay closer attention and be more organized.<br />\n<br />\nPromotes<br />\nPhysical Activity<br />\nEmotional Health<br />\nIntellectual Activity<br />\nNutrition<br />\nSpirituality<br />\nSocial Engagement<br />\n<br />\nAll play a role in Brain Health<br />\nReigsitration is required by phoning:&nbsp\; 262-434-1248<br />\n<br />\nThursdays\,<br />\nSeptember 19\, 26<br />\nOctober 3\, 10\, 17\, 24\, 31<br />\nGifford Room</strong><br />\n<br />\n&nbsp\;</div>\n
LOCATION:Aurora Medical Center Summit 36500 Aurora Drive Summit\, WI
UID:e.522.137781
SEQUENCE:3
DTSTAMP:20260425T040532Z
URL:https://business.hartland-wi.org/events/details/boost-your-brain-memory-fall-2019-137781
END:VEVENT

END:VCALENDAR
