BEGIN:VCALENDAR
VERSION:2.0
PRODID:-//ChamberMaster//Event Calendar 2.0//EN
METHOD:PUBLISH
X-PUBLISHED-TTL:P3D
REFRESH-INTERVAL:P3D
CALSCALE:GREGORIAN
BEGIN:VEVENT
DTSTART:20181004T183000Z
DTEND:20181004T200000Z
X-MICROSOFT-CDO-ALLDAYEVENT:FALSE
SUMMARY:Boost Your Brain & Memory Fall 2018
DESCRIPTION:Boost Your Brain & Memory\n\nA 7 Week Workshop\n\nA Brain Fitness Program offering a whole person approach to helping individuals learn to live healthier\, remember things better\, pay closer attention and be more organized.\n\nPromotes:\n\nPhysical Activity\n\nEmotional Health\n\nIntelectual Activity\n\nNutrition\n\nSpirituality\n\nSocial Engagement\n\n\n\nRegistration is required by phoning:  888-863-5502 or contact Trish Golden at 262-434-1248
X-ALT-DESC;FMTTYPE=text/html:<div style="text-align: center\;"><strong>Boost Your Brain &amp\; Memory<br />\nA 7 Week Workshop<br />\nA Brain Fitness Program offering a whole person approach to helping individuals learn to live healthier\, remember things better\, pay closer attention and be more organized.<br />\nPromotes:<br />\nPhysical Activity<br />\nEmotional Health<br />\nIntelectual Activity<br />\nNutrition<br />\nSpirituality<br />\nSocial Engagement<br />\n<br />\nRegistration is required by phoning:&nbsp\; 888-863-5502 or contact Trish Golden at 262-434-1248</strong><br />\n&nbsp\;</div>\n
LOCATION:Aurora Medical Center Summit Gifford Room 36500 Aurora Drive Summit\, WI
UID:e.522.137492
SEQUENCE:3
DTSTAMP:20260424T085343Z
URL:https://business.hartland-wi.org/events/details/boost-your-brain-memory-fall-2018-10-04-2018-137492
END:VEVENT

END:VCALENDAR
