BEGIN:VCALENDAR
VERSION:2.0
PRODID:-//ChamberMaster//Event Calendar 2.0//EN
METHOD:PUBLISH
X-PUBLISHED-TTL:P3D
REFRESH-INTERVAL:P3D
CALSCALE:GREGORIAN
BEGIN:VEVENT
DTSTART:20180927T180000Z
DTEND:20180927T200000Z
X-MICROSOFT-CDO-ALLDAYEVENT:FALSE
SUMMARY:Boost Your Brain & Memory
DESCRIPTION:A 7 Week Workshop\n\nA Brain Fitness Program offering a whole person approach to helping individuals learn to live healthier\, remember things better\, pay closer attention and be more organized.\n\n\n\nThursdays:  September 27\n\nOctober 4\, 11\, 18\, 25\n\nNovember 1\, 8 \, 15\n\n\n\nRegistration is required by phoning:  888-863-5502 or contact Trish Golden at 262-434-1248
X-ALT-DESC;FMTTYPE=text/html:<div style="text-align: center\;"><strong>A 7 Week Workshop<br />\nA Brain Fitness Program offering a whole person approach to helping individuals learn to live healthier\, remember things better\, pay closer attention and be more organized.<br />\n<br />\nThursdays:&nbsp\; September 27<br />\nOctober 4\, 11\, 18\, 25<br />\nNovember 1\, 8 \, 15<br />\n<br />\nRegistration is required by phoning:&nbsp\; 888-863-5502 or contact Trish Golden at 262-434-1248</strong></div>\n
LOCATION:Aurora Medical Center Summit: Gifford Hall 36500 Aurora Drive Summit\, WI
UID:e.522.137253
SEQUENCE:3
DTSTAMP:20260424T072826Z
URL:https://business.hartland-wi.org/events/details/boost-your-brain-memory-09-27-2018-137253
END:VEVENT

END:VCALENDAR
