BEGIN:VCALENDAR
VERSION:2.0
PRODID:-//ChamberMaster//Event Calendar 2.0//EN
METHOD:PUBLISH
X-PUBLISHED-TTL:P3D
REFRESH-INTERVAL:P3D
CALSCALE:GREGORIAN
BEGIN:VEVENT
DTSTART:20130214T133000Z
DTEND:20130214T150000Z
X-MICROSOFT-CDO-ALLDAYEVENT:FALSE
SUMMARY:Board of Directors Meeting
DESCRIPTION:HARTLAND CHAMBER OF COMMERCE\n\n	BOARD OF DIRECTORS MEETING\n\n	\n\n	Name: Board of Directors Meeting\n\n	\n\n	Date: Second Thursday of Every Month\n\n	\n\n	Time: 7:30 am - 9:00 am\n\n	\n\n	Description: Monthly Meeting
X-ALT-DESC;FMTTYPE=text/html:<p>\n	<strong><span style="font-size: 14px\;">HARTLAND CHAMBER OF COMMERCE<br />\n	BOARD OF DIRECTORS MEETING<br />\n	<br />\n	Name: </span></strong><span style="font-size: 14px\;"><span style="font-size: 12px\;">Board of Directors Meeting<br />\n	<br />\n	<span style="font-size: 14px\;"><strong>Date: </strong><span style="font-size: 12px\;">Second Thursday of Every Month<br />\n	<br />\n	<strong><span style="font-size: 14px\;">Time: </span></strong><span style="font-size: 14px\;"><span style="font-size: 12px\;">7:30 am - 9:00 am<br />\n	<br />\n	<strong><span style="font-size: 14px\;">Description: </span></strong><span style="font-size: 14px\;"><span style="font-size: 12px\;">Monthly Meeting</span></span></span></span></span></span></span></span></p>\n
LOCATION:Arrowhead High School-South Campus Administrative Building (unless otherwise specified)
UID:e.522.132191
SEQUENCE:3
DTSTAMP:20260421T004437Z
URL:https://business.hartland-wi.org/events/details/board-of-directors-meeting-02-14-2013-132191
END:VEVENT

END:VCALENDAR
