BEGIN:VCALENDAR
VERSION:2.0
PRODID:-//ChamberMaster//Event Calendar 2.0//EN
METHOD:PUBLISH
X-PUBLISHED-TTL:P3D
REFRESH-INTERVAL:P3D
CALSCALE:GREGORIAN
BEGIN:VEVENT
DTSTART:20120112T210000Z
DTEND:20120113T010000Z
X-MICROSOFT-CDO-ALLDAYEVENT:FALSE
SUMMARY:Blood Drive
DESCRIPTION:BloodCenter of Wisconsin advances patient care by delivering life-savings solutions grounded in unparalleled medical and scientific expertise. With your help\, we can ensure that patients in our local hospitals never have to worry about the blood they need being available.\n\n	\n\n	To donate blood\, you must:\n\n	\n		Be in good health\n	\n		Weigh at least 110 llbs\n	\n		Have a photo ID\n	\n		Be at least 17 years old (16 years old accepted with parental consent)
X-ALT-DESC;FMTTYPE=text/html:<p>\n	<span style="font-family: times new roman"><span style="font-size: 14px">BloodCenter of Wisconsin advances patient care by delivering life-savings solutions grounded in unparalleled medical and scientific expertise. With your help\, we can ensure that patients in our local hospitals never have to worry about the blood they need being available.<br />\n	<br />\n	<strong>To donate blood\, you must:</strong></span></span></p>\n<ul>\n	<li>\n		<span style="font-family: times new roman"><span style="font-size: 14px"><strong>Be in good health</strong></span></span></li>\n	<li>\n		<span style="font-family: times new roman"><span style="font-size: 14px"><strong>Weigh at least 110 llbs</strong></span></span></li>\n	<li>\n		<span style="font-family: times new roman"><span style="font-size: 14px"><strong>Have a photo ID</strong></span></span></li>\n	<li>\n		<span style="font-family: times new roman"><span style="font-size: 14px"><strong>Be at least 17 years old (16 years old accepted with parental consent)</strong></span></span></li>\n</ul>\n
LOCATION:Our Savior's Lutheran Church\, W299 N5782 County Rd E\, Hartland (just north of Swallow Elementary school)
UID:e.522.131919
SEQUENCE:3
DTSTAMP:20260421T225859Z
URL:https://business.hartland-wi.org/events/details/blood-drive-01-12-2012-131919
END:VEVENT

END:VCALENDAR
