BEGIN:VCALENDAR
VERSION:2.0
PRODID:-//ChamberMaster//Event Calendar 2.0//EN
METHOD:PUBLISH
X-PUBLISHED-TTL:P3D
REFRESH-INTERVAL:P3D
CALSCALE:GREGORIAN
BEGIN:VEVENT
DTSTART:20190609T173000Z
DTEND:20190609T183000Z
X-MICROSOFT-CDO-ALLDAYEVENT:FALSE
SUMMARY:Blessing of the Bikes at St. Charles
DESCRIPTION:Come and get your motorcycle blessed\n\nfor a safe and enjoyable riding season!\n\n\n\nMeet in the St. Charles parking lot on June 9th at 12:30 pm\n\n313 Circle Drive\, Hartland
X-ALT-DESC;FMTTYPE=text/html:<div style="text-align: center\;"><br />\n<br />\n<strong><span style="color:#0000FF"><span style="font-size:18px"><span style="font-family:verdana"><em>Come and get your motorcycle blessed<br />\nfor a safe and enjoyable riding season!</em></span></span></span><br />\n<br />\n<span style="color:#FF0000\;"><span style="font-size:18px"><span style="font-family:verdana"><span style="font-size:14px\;">Meet in the St. Charles parking lot on June 9th at 12:30 pm<br />\n313 Circle Drive\, Hartland</span></span></span></span></strong></div>\n
LOCATION:St. Charles Catholic Parish Parking Lot 313 Circle Drive\, Hartland
UID:e.522.138029
SEQUENCE:3
DTSTAMP:20260424T232529Z
URL:https://business.hartland-wi.org/events/details/blessing-of-the-bikes-at-st-charles-138029
END:VEVENT

END:VCALENDAR
