BEGIN:VCALENDAR
VERSION:2.0
PRODID:-//ChamberMaster//Event Calendar 2.0//EN
METHOD:PUBLISH
X-PUBLISHED-TTL:P3D
REFRESH-INTERVAL:P3D
CALSCALE:GREGORIAN
BEGIN:VEVENT
DTSTART:20170113T000000Z
DTEND:20170113T010000Z
X-MICROSOFT-CDO-ALLDAYEVENT:FALSE
SUMMARY:Big Idea Workshop
DESCRIPTION:In today's day and age there are sooo many takes on health and what to do regarding your health. If you want to know the truth then don't miss this class! You will leave feeling empowered and knowing that you have that capability to become healthy yourself!
X-ALT-DESC;FMTTYPE=text/html:In today&#39\;s day and age there are sooo many takes on health and what to do regarding your health. If you want to know the truth then don&#39\;t miss this class! You will leave feeling empowered and knowing that you have that capability to become healthy yourself!
LOCATION:The Specific Chiropractic Center 557 Cottonwood Ave Ste 101 Harltand\, WI 53029
UID:e.522.133886
SEQUENCE:3
DTSTAMP:20260422T221021Z
URL:https://business.hartland-wi.org/events/details/big-idea-workshop-01-12-2017-133886
END:VEVENT

END:VCALENDAR
