BEGIN:VCALENDAR
VERSION:2.0
PRODID:-//ChamberMaster//Event Calendar 2.0//EN
METHOD:PUBLISH
X-PUBLISHED-TTL:P3D
REFRESH-INTERVAL:P3D
CALSCALE:GREGORIAN
BEGIN:VEVENT
DTSTART:20170930T220000Z
DTEND:20171001T045000Z
X-MICROSOFT-CDO-ALLDAYEVENT:FALSE
SUMMARY:Beer Snobs Oktoberfest
DESCRIPTION:Beer Snobs along with The Hartland Inn will close Haight Drive and celebrate Oktoberfest. "A Little Bit of Heaven" will play classic German music from 5-7pm followed by Country rock band " Rebel Grace" at 7:30. There will be over 30 craft beers on tap. Beer Snobs will be raising money for breast cancer awareness through the sale of glass steins and bartender tips.
X-ALT-DESC;FMTTYPE=text/html:Beer Snobs along with The Hartland Inn will close Haight Drive and celebrate Oktoberfest. &quot\;A Little Bit of Heaven&quot\; will play classic German music from 5-7pm followed by Country rock band &quot\; Rebel Grace&quot\; at 7:30. There will be over 30 craft beers on tap. Beer Snobs will be raising money for breast cancer awareness through the sale of glass steins and bartender tips.
LOCATION:Haight Drive between Beer Snobs and The Hartland Inn.
UID:e.522.137004
SEQUENCE:3
DTSTAMP:20260423T112935Z
URL:https://business.hartland-wi.org/events/details/beer-snobs-oktoberfest-137004
END:VEVENT

END:VCALENDAR
