BEGIN:VCALENDAR
VERSION:2.0
PRODID:-//ChamberMaster//Event Calendar 2.0//EN
METHOD:PUBLISH
X-PUBLISHED-TTL:P3D
REFRESH-INTERVAL:P3D
CALSCALE:GREGORIAN
BEGIN:VEVENT
DTSTART:20180803T140000Z
DTEND:20180803T160000Z
X-MICROSOFT-CDO-ALLDAYEVENT:FALSE
SUMMARY:Back to School Bash
DESCRIPTION:Back to School Bash at Costco Wholesale!\n\n\n\nDoors open at 9 AM on Friday\, August 3rd.  Join us for the Sales Tax Holiday!\n\nTo learn more about the Wisconsin Sales Tax Holiday\, please visit: http://bit.ly/2z6wtQ1 \n\n\n\nDuring this event\, enjoy a continental breakfast\, samples throughout the warehouse\, and a treasure hunt!  The first 50 children at each location will receive a free children's book.  Not a member? You are welcome to to attend the event to check out the warehouse\, but you MUST be a member to purchase merchandise. \n\n\n\nJoin as a new member at a participating warehouse and recieve an exclusive offer!  The first 50 people that sign up for a new Costco membership at each location will receive a swag bag filled with Costco samples. \n\nSee the membership counter for details. \n\n\n\nAll Wisconsin locations will be participating in this event. \n\nLocations include: Grafton\, Pewaukee\, New Berlin\, Menomonee Falls\, Grand Chute\, Bellevue\, Pleasant Prairie\, Sun Prairie\, and Middleton.\n\nSee Costco.com for warehouse information. \n\n\n\nCostco accepts all Visa cards\, as well as cash\, checks\, debit/ATM cards\, EBT\, and Costco Cash Cards.
X-ALT-DESC;FMTTYPE=text/html:<div style="text-align: center\;"><span style="font-size:18px"><span style="font-size:24px">Back to School Bash at Costco Wholesale!</span><br />\n<br />\nDoors open at 9 AM on Friday\, August 3rd.&nbsp\; Join us for the Sales Tax Holiday!<br />\n<span style="font-size:14px"><em>To learn more about the Wisconsin Sales Tax Holiday\, please visit: </em><a href="http://bit.ly/2z6wtQ1">http://bit.ly/2z6wtQ1</a> </span><br />\n<br />\nDuring this event\, enjoy a continental breakfast\, samples throughout the warehouse\, and a treasure hunt!&nbsp\; The first 50 children at each location will receive a free children&#39\;s book.&nbsp\; <em>Not a member? You are welcome to to attend the event to check out the warehouse\, but you MUST be a member to purchase merchandise.&nbsp\;</em><br />\n<br />\nJoin as a new member at a participating warehouse and recieve an exclusive offer!&nbsp\; The first 50 people that sign up for a new Costco membership at each location will receive a swag bag filled with Costco samples.&nbsp\;<br />\n<em>See&nbsp\;the membership counter for details.&nbsp\;</em><br />\n<br />\nAll Wisconsin locations will be participating in this event.&nbsp\;<br />\nLocations include: Grafton\, Pewaukee\, New Berlin\, Menomonee Falls\, Grand Chute\, Bellevue\, Pleasant Prairie\, Sun Prairie\, and Middleton.<br />\n<em>See Costco.com for warehouse information. </em></span><br />\n<br />\n<span style="color:rgb(105\, 105\, 105)"><span style="font-size:12px">Costco accepts all Visa cards\, as well as cash\, checks\, debit/ATM cards\, EBT\, and Costco Cash Cards.</span></span></div>\n
LOCATION:443 Pewaukee Rd.\, Pewaukee\, WI 53072
UID:e.522.137505
SEQUENCE:3
DTSTAMP:20260424T054842Z
URL:https://business.hartland-wi.org/events/details/back-to-school-bash-08-03-2018-137505
END:VEVENT

END:VCALENDAR
