BEGIN:VCALENDAR
VERSION:2.0
PRODID:-//ChamberMaster//Event Calendar 2.0//EN
METHOD:PUBLISH
X-PUBLISHED-TTL:P3D
REFRESH-INTERVAL:P3D
CALSCALE:GREGORIAN
BEGIN:VEVENT
DTSTART:20191210T230000Z
DTEND:20191211T003000Z
X-MICROSOFT-CDO-ALLDAYEVENT:FALSE
SUMMARY:B.Y.O.C.
DESCRIPTION:B.Y.O.C.\n\n"Bring Your Own Cards" - Business After Five\n\nSecond Tuesday of the Month\n\n5:00 pm. - 6:30 pm\n\n \n\nB.Y.O.C. is a Business After Five\n\ncasual networking opportunity\n\nheld on the second Tuesday of the month.\n\n \n\nSocialize with colleagues\, forge valuable professional relationships and don't forget to\n\nB.Y.O.C. - bring your own business cards - lots of them! \n\nYou just might meet your next client!\n\nMembers and non-members are welcome to attend.\n\nFREE for Chamber Members !!\n\n$25.00 for Non-Members\n\nAs a courtesy to the host\, please help and pre-register for this event for refreshment needs!
X-ALT-DESC;FMTTYPE=text/html:<h4 style="text-align: center\;"><span style="font-size: medium\;"><span style="color: rgb(153\, 51\, 102)\;"><span style="font-family: comic sans ms\;"><big>B.Y.O.C.</big></span></span></span></h4>\n\n<h4 style="text-align: center\;"><span style="color: rgb(153\, 51\, 102)\;"><span style="font-family: comic sans ms\;"><big>&quot\;Bring Your Own Cards&quot\; - Business After Five</big></span></span></h4>\n\n<h4 style="text-align: center\;"><span style="color: rgb(153\, 51\, 102)\;"><span style="font-family: comic sans ms\;"><big>Second Tuesday of the Month</big></span></span></h4>\n\n<h4 style="text-align: center\;"><span style="color: rgb(153\, 51\, 102)\;"><span style="font-family: comic sans ms\;"><big>5:00 pm. - 6:30 pm</big></span></span></h4>\n\n<div>&nbsp\;</div>\n\n<div style="text-align: center\;"><span style="font-size: larger\;"><font size="4">B.Y.O.C. is a Business After Five</font></span></div>\n\n<div style="text-align: center\;"><span style="font-size: larger\;"><font size="4">casual networking opportunity</font></span></div>\n\n<div style="text-align: center\;"><span style="font-size: larger\;"><font size="4">held on the second Tuesday of the&nbsp\;month.</font></span></div>\n\n<div style="text-align: center\;">&nbsp\;</div>\n\n<div style="text-align: center\;"><span style="font-size: larger\;"><font size="4">Socialize with colleagues\, forge valuable professional relationships and don&#39\;t forget to</font></span></div>\n\n<div style="text-align: center\;"><span style="font-size: larger\;"><font size="4">B.Y.O.C. - bring your own business cards - lots of them! </font></span></div>\n\n<div style="text-align: center\;"><span style="font-size: larger\;"><font size="4">You just might meet your next client!</font></span></div>\n\n<p style="text-align: center\;"><span style="font-size: larger\;"><font size="4">Members and non-members are welcome to attend.</font></span></p>\n\n<p style="text-align: center\;"><strong><span style="background-color: rgb(255\, 255\, 0)\;"><span style="font-size: x-small\;">FREE for Chamber Members !!<br />\n$25.00 for Non-Members</span></span></strong></p>\n\n<p style="text-align: center\;"><strong><span style="background-color: rgb(255\, 255\, 0)\;"><span style="font-size: x-small\;">As a courtesy to the host\, please help and pre-register for this event for refreshment needs!</span></span></strong></p>\n
LOCATION:Changes each session\, based on host. Always check Events Calendar for updated location information! THIS MONTH: Hartland Family Chiropractic Being held at: 211 Cottonwood Avenue Hartland\, WI 53029
UID:e.522.137637
SEQUENCE:3
DTSTAMP:20260419T160716Z
URL:https://business.hartland-wi.org/events/details/b-y-o-c-137637
END:VEVENT

END:VCALENDAR
