BEGIN:VCALENDAR
VERSION:2.0
PRODID:-//ChamberMaster//Event Calendar 2.0//EN
METHOD:PUBLISH
X-PUBLISHED-TTL:P3D
REFRESH-INTERVAL:P3D
CALSCALE:GREGORIAN
BEGIN:VEVENT
DTSTART:20141009T220000Z
DTEND:20141009T233000Z
X-MICROSOFT-CDO-ALLDAYEVENT:FALSE
SUMMARY:B.Y.O.C.
DESCRIPTION:B.Y.O.C.\n\n"Bring Your Own Cards" - Business After Five\n\nSecond Thursday of Every Month\n\n5:00 pm. - 6:30 pm\n\n \n\nB.Y.O.C. is a Business After Five\n\ncasual networking opportunity\n\nheld on the second Thursday of each month.\n\n \n\nSocialize with colleagues\, forge valuable professional relationships and don't forget to\n\nB.Y.O.C. - bring your own business cards - lots of them! \n\nYou just might meet your next client!\n\nMembers and non-members are welcome to attend.\n\nDONATIONS TO THE ST. VINCENT DE PAUL FOOD PANTRY ARE WELCOME!!!\n\n \n\nAs a courtesy to the host\, please help and pre-register for this event for refreshment needs!\n\n \n\n \n\n2014 Schedule:\n\nJan - Global View Capital Advisors\n\nFeb - Forward Chiropractic\n\nMar - Hartland Food Pantry\n\nApr - Lake Country Martial Arts\n\nMay - ProHealth Care\n\nJun - Jim Muenzenberger\, D.D.S.\, S.C.\n\nJul - Ixonia Bank\n\nAug - Mike Gogin State Farm Insurance\n\nSept - Lake Country Chiropractic\n\nOct - St. Vincent de Paul Food Pantry at St.Charles Parish\n\nNov - Alliance Counseling Center\n\nDec - Swallow School
X-ALT-DESC;FMTTYPE=text/html:<h4 style="text-align: center\;"><span style="font-size: medium\;"><span style="color: rgb(153\, 51\, 102)\;"><span style="font-family: comic sans ms\;"><big>B.Y.O.C.</big></span></span></span></h4>\n\n<h4 style="text-align: center\;"><span style="color: rgb(153\, 51\, 102)\;"><span style="font-family: comic sans ms\;"><big>&quot\;Bring Your Own Cards&quot\; - Business After Five</big></span></span></h4>\n\n<h4 style="text-align: center\;"><span style="color: rgb(153\, 51\, 102)\;"><span style="font-family: comic sans ms\;"><big>Second Thursday of Every Month</big></span></span></h4>\n\n<h4 style="text-align: center\;"><span style="color: rgb(153\, 51\, 102)\;"><span style="font-family: comic sans ms\;"><big>5:00 pm. - 6:30 pm</big></span></span></h4>\n\n<div>&nbsp\;</div>\n\n<div style="text-align: center\;"><span style="font-size: larger\;"><font size="4">B.Y.O.C. is a Business After Five</font></span></div>\n\n<div style="text-align: center\;"><span style="font-size: larger\;"><font size="4">casual networking opportunity</font></span></div>\n\n<div style="text-align: center\;"><span style="font-size: larger\;"><font size="4">held on the second Thursday of each month.</font></span></div>\n\n<div style="text-align: center\;">&nbsp\;</div>\n\n<div style="text-align: center\;"><span style="font-size: larger\;"><font size="4">Socialize with colleagues\, forge valuable professional relationships and don&rsquo\;t forget to</font></span></div>\n\n<div style="text-align: center\;"><span style="font-size: larger\;"><font size="4">B.Y.O.C. - bring your own business cards - lots of them! </font></span></div>\n\n<div style="text-align: center\;"><span style="font-size: larger\;"><font size="4">You just might meet your next client!</font></span></div>\n\n<p style="text-align: center\;"><span style="font-size: larger\;"><font size="4">Members and non-members are welcome to attend.</font></span></p>\n\n<p style="text-align: center\;"><strong><span style="background-color: rgb(255\, 255\, 0)\;"><span style="font-size: x-small\;">DONATIONS TO THE ST. VINCENT DE PAUL FOOD PANTRY ARE WELCOME!!!</span></span></strong><br />\n&nbsp\;</p>\n\n<p style="text-align: center\;"><strong><span style="background-color: rgb(255\, 255\, 0)\;"><span style="font-size: x-small\;">As a courtesy to the host\, please help and pre-register for this event for refreshment needs!</span></span></strong></p>\n\n<p style="text-align: center\;">&nbsp\;</p>\n\n<div>&nbsp\;</div>\n\n<div><strong><span style="background-color: rgb(0\, 255\, 0)\;">2014 Schedule</span></strong>:</div>\n\n<div>Jan - Global View Capital Advisors</div>\n\n<div>Feb - Forward Chiropractic<br />\nMar - Hartland Food Pantry<br />\nApr - Lake Country Martial Arts<br />\nMay - ProHealth Care<br />\nJun - Jim Muenzenberger\, D.D.S.\, S.C.<br />\nJul - Ixonia Bank<br />\nAug - Mike Gogin State Farm Insurance<br />\nSept - Lake Country Chiropractic<br />\nOct - St. Vincent de Paul Food Pantry at St.Charles Parish<br />\nNov - Alliance Counseling Center<br />\nDec - Swallow School</div>\n
LOCATION:Changes monthly based on host. Always check Events Calendar for updated location information! THIS MONTH: St. Vincent de Paul Food Pantry At St. Charles Parish 313 Circle Drive Hartland\, WI 53029
UID:e.522.132801
SEQUENCE:3
DTSTAMP:20260421T004203Z
URL:https://business.hartland-wi.org/events/details/b-y-o-c-10-09-2014-132801
END:VEVENT

END:VCALENDAR
