BEGIN:VCALENDAR
VERSION:2.0
PRODID:-//ChamberMaster//Event Calendar 2.0//EN
METHOD:PUBLISH
X-PUBLISHED-TTL:P3D
REFRESH-INTERVAL:P3D
CALSCALE:GREGORIAN
BEGIN:VEVENT
DTSTART:20160913T220000Z
DTEND:20160913T233000Z
X-MICROSOFT-CDO-ALLDAYEVENT:FALSE
SUMMARY:B.Y.O.C.
DESCRIPTION:B.Y.O.C.\n\n"Bring Your Own Cards" - Business After Five\n\nSecond Tuesday of Every Month\n\n5:00 pm. - 6:30 pm\n\n \n\nB.Y.O.C. is a Business After Five\n\ncasual networking opportunity\n\nheld on the second Tuesday of each month.\n\n \n\nSocialize with colleagues\, forge valuable professional relationships and don't forget to\n\nB.Y.O.C. - bring your own business cards - lots of them! \n\nYou just might meet your next client!\n\nMembers and non-members are welcome to attend.\n\nFREE for Chamber Members !!\n\n$5.00 for Non-Members\n\nAs a courtesy to the host\, please help and pre-register for this event for refreshment needs!
X-ALT-DESC;FMTTYPE=text/html:<h4 style="text-align: center\;"><span style="font-size: medium\;"><span style="color: rgb(153\, 51\, 102)\;"><span style="font-family: comic sans ms\;"><big>B.Y.O.C.</big></span></span></span></h4>\n\n<h4 style="text-align: center\;"><span style="color: rgb(153\, 51\, 102)\;"><span style="font-family: comic sans ms\;"><big>&quot\;Bring Your Own Cards&quot\; - Business After Five</big></span></span></h4>\n\n<h4 style="text-align: center\;"><span style="color: rgb(153\, 51\, 102)\;"><span style="font-family: comic sans ms\;"><big>Second Tuesday of Every Month</big></span></span></h4>\n\n<h4 style="text-align: center\;"><span style="color: rgb(153\, 51\, 102)\;"><span style="font-family: comic sans ms\;"><big>5:00 pm. - 6:30 pm</big></span></span></h4>\n\n<div>&nbsp\;</div>\n\n<div style="text-align: center\;"><span style="font-size: larger\;"><font size="4">B.Y.O.C. is a Business After Five</font></span></div>\n\n<div style="text-align: center\;"><span style="font-size: larger\;"><font size="4">casual networking opportunity</font></span></div>\n\n<div style="text-align: center\;"><span style="font-size: larger\;"><font size="4">held on the second Tuesday of each month.</font></span></div>\n\n<div style="text-align: center\;">&nbsp\;</div>\n\n<div style="text-align: center\;"><span style="font-size: larger\;"><font size="4">Socialize with colleagues\, forge valuable professional relationships and don&rsquo\;t forget to</font></span></div>\n\n<div style="text-align: center\;"><span style="font-size: larger\;"><font size="4">B.Y.O.C. - bring your own business cards - lots of them! </font></span></div>\n\n<div style="text-align: center\;"><span style="font-size: larger\;"><font size="4">You just might meet your next client!</font></span></div>\n\n<p style="text-align: center\;"><span style="font-size: larger\;"><font size="4">Members and non-members are welcome to attend.</font></span></p>\n\n<p style="text-align: center\;"><strong><span style="background-color: rgb(255\, 255\, 0)\;"><span style="font-size: x-small\;">FREE for Chamber Members !!<br />\n$5.00 for Non-Members</span></span></strong></p>\n\n<p style="text-align: center\;"><strong><span style="background-color: rgb(255\, 255\, 0)\;"><span style="font-size: x-small\;">As a courtesy to the host\, please help and pre-register for this event for refreshment needs!</span></span></strong></p>\n
LOCATION:Changes monthly based on host. Always check Events Calendar for updated location information! THIS MONTH: Wisconsin Upside Down 155 E. Capitol Drive\, Suite 9C Hartland\, WI 53029 We have a serious mission\, but don't take ourselves too seriously so our isiting chamber members can expect some fun! Since our office is small and we are "Upside Down"\, we will share some treats in the conference room upstairs on the main floor of our building. Downstairs we will be showing off the Strider Adventure Zone Balance Bikes and anyone can try them! We have items that members may take with them to help celebrate Down Syndrome Awareness month in October. You may even win a prize from WIUSD!
UID:e.522.133342
SEQUENCE:3
DTSTAMP:20260422T150504Z
URL:https://business.hartland-wi.org/events/details/b-y-o-c-09-13-2016-133342
END:VEVENT

END:VCALENDAR
